BEGIN:VCALENDAR
VERSION:2.0
PRODID:-//OSUCC - ECPv6.15.20//NONSGML v1.0//EN
CALSCALE:GREGORIAN
METHOD:PUBLISH
X-ORIGINAL-URL:https://www.osucc.com
X-WR-CALDESC:Events for OSUCC
REFRESH-INTERVAL;VALUE=DURATION:PT1H
X-Robots-Tag:noindex
X-PUBLISHED-TTL:PT1H
BEGIN:VTIMEZONE
TZID:America/Los_Angeles
BEGIN:DAYLIGHT
TZOFFSETFROM:-0800
TZOFFSETTO:-0700
TZNAME:PDT
DTSTART:20250309T100000
END:DAYLIGHT
BEGIN:STANDARD
TZOFFSETFROM:-0700
TZOFFSETTO:-0800
TZNAME:PST
DTSTART:20251102T090000
END:STANDARD
BEGIN:DAYLIGHT
TZOFFSETFROM:-0800
TZOFFSETTO:-0700
TZNAME:PDT
DTSTART:20260308T100000
END:DAYLIGHT
BEGIN:STANDARD
TZOFFSETFROM:-0700
TZOFFSETTO:-0800
TZNAME:PST
DTSTART:20261101T090000
END:STANDARD
BEGIN:DAYLIGHT
TZOFFSETFROM:-0800
TZOFFSETTO:-0700
TZNAME:PDT
DTSTART:20270314T100000
END:DAYLIGHT
BEGIN:STANDARD
TZOFFSETFROM:-0700
TZOFFSETTO:-0800
TZNAME:PST
DTSTART:20271107T090000
END:STANDARD
END:VTIMEZONE
BEGIN:VEVENT
DTSTART;TZID=America/Los_Angeles:20260118T103000
DTEND;TZID=America/Los_Angeles:20260118T120000
DTSTAMP:20260425T082913
CREATED:20251019T210617Z
LAST-MODIFIED:20251019T231042Z
UID:10000205-1768732200-1768737600@www.osucc.com
SUMMARY:Sunday Morning Church
DESCRIPTION:
URL:https://www.osucc.com/event/sunday-morning-church/2026-01-18/
LOCATION:Circle Church of Christ\, 2020 NW Circle Blvd\, Corvallis\, OR\, 97330\, United States
CATEGORIES:Bible Study,Circle Church of Christ
END:VEVENT
BEGIN:VEVENT
DTSTART;TZID=America/Los_Angeles:20260125T103000
DTEND;TZID=America/Los_Angeles:20260125T120000
DTSTAMP:20260425T082913
CREATED:20251019T210617Z
LAST-MODIFIED:20251019T231042Z
UID:10000206-1769337000-1769342400@www.osucc.com
SUMMARY:Sunday Morning Church
DESCRIPTION:
URL:https://www.osucc.com/event/sunday-morning-church/2026-01-25/
LOCATION:Circle Church of Christ\, 2020 NW Circle Blvd\, Corvallis\, OR\, 97330\, United States
CATEGORIES:Bible Study,Circle Church of Christ
END:VEVENT
BEGIN:VEVENT
DTSTART;TZID=America/Los_Angeles:20260201T103000
DTEND;TZID=America/Los_Angeles:20260201T120000
DTSTAMP:20260425T082913
CREATED:20251019T210617Z
LAST-MODIFIED:20251019T231042Z
UID:10000207-1769941800-1769947200@www.osucc.com
SUMMARY:Sunday Morning Church
DESCRIPTION:
URL:https://www.osucc.com/event/sunday-morning-church/2026-02-01/
LOCATION:Circle Church of Christ\, 2020 NW Circle Blvd\, Corvallis\, OR\, 97330\, United States
CATEGORIES:Bible Study,Circle Church of Christ
END:VEVENT
BEGIN:VEVENT
DTSTART;TZID=America/Los_Angeles:20260208T103000
DTEND;TZID=America/Los_Angeles:20260208T120000
DTSTAMP:20260425T082913
CREATED:20251019T210617Z
LAST-MODIFIED:20251019T231042Z
UID:10000208-1770546600-1770552000@www.osucc.com
SUMMARY:Sunday Morning Church
DESCRIPTION:
URL:https://www.osucc.com/event/sunday-morning-church/2026-02-08/
LOCATION:Circle Church of Christ\, 2020 NW Circle Blvd\, Corvallis\, OR\, 97330\, United States
CATEGORIES:Bible Study,Circle Church of Christ
END:VEVENT
BEGIN:VEVENT
DTSTART;TZID=America/Los_Angeles:20260215T103000
DTEND;TZID=America/Los_Angeles:20260215T120000
DTSTAMP:20260425T082913
CREATED:20251019T210617Z
LAST-MODIFIED:20251019T231042Z
UID:10000209-1771151400-1771156800@www.osucc.com
SUMMARY:Sunday Morning Church
DESCRIPTION:
URL:https://www.osucc.com/event/sunday-morning-church/2026-02-15/
LOCATION:Circle Church of Christ\, 2020 NW Circle Blvd\, Corvallis\, OR\, 97330\, United States
CATEGORIES:Bible Study,Circle Church of Christ
END:VEVENT
BEGIN:VEVENT
DTSTART;TZID=America/Los_Angeles:20260222T103000
DTEND;TZID=America/Los_Angeles:20260222T120000
DTSTAMP:20260425T082913
CREATED:20251019T210617Z
LAST-MODIFIED:20251019T231042Z
UID:10000210-1771756200-1771761600@www.osucc.com
SUMMARY:Sunday Morning Church
DESCRIPTION:
URL:https://www.osucc.com/event/sunday-morning-church/2026-02-22/
LOCATION:Circle Church of Christ\, 2020 NW Circle Blvd\, Corvallis\, OR\, 97330\, United States
CATEGORIES:Bible Study,Circle Church of Christ
END:VEVENT
BEGIN:VEVENT
DTSTART;TZID=America/Los_Angeles:20260301T103000
DTEND;TZID=America/Los_Angeles:20260301T120000
DTSTAMP:20260425T082913
CREATED:20251019T210617Z
LAST-MODIFIED:20251019T231042Z
UID:10000211-1772361000-1772366400@www.osucc.com
SUMMARY:Sunday Morning Church
DESCRIPTION:
URL:https://www.osucc.com/event/sunday-morning-church/2026-03-01/
LOCATION:Circle Church of Christ\, 2020 NW Circle Blvd\, Corvallis\, OR\, 97330\, United States
CATEGORIES:Bible Study,Circle Church of Christ
END:VEVENT
BEGIN:VEVENT
DTSTART;TZID=America/Los_Angeles:20260308T103000
DTEND;TZID=America/Los_Angeles:20260308T120000
DTSTAMP:20260425T082913
CREATED:20251019T210617Z
LAST-MODIFIED:20251019T231042Z
UID:10000212-1772965800-1772971200@www.osucc.com
SUMMARY:Sunday Morning Church
DESCRIPTION:
URL:https://www.osucc.com/event/sunday-morning-church/2026-03-08/
LOCATION:Circle Church of Christ\, 2020 NW Circle Blvd\, Corvallis\, OR\, 97330\, United States
CATEGORIES:Bible Study,Circle Church of Christ
END:VEVENT
BEGIN:VEVENT
DTSTART;TZID=America/Los_Angeles:20260315T103000
DTEND;TZID=America/Los_Angeles:20260315T120000
DTSTAMP:20260425T082913
CREATED:20251019T210617Z
LAST-MODIFIED:20251019T231042Z
UID:10000213-1773570600-1773576000@www.osucc.com
SUMMARY:Sunday Morning Church
DESCRIPTION:
URL:https://www.osucc.com/event/sunday-morning-church/2026-03-15/
LOCATION:Circle Church of Christ\, 2020 NW Circle Blvd\, Corvallis\, OR\, 97330\, United States
CATEGORIES:Bible Study,Circle Church of Christ
END:VEVENT
BEGIN:VEVENT
DTSTART;TZID=America/Los_Angeles:20260322T103000
DTEND;TZID=America/Los_Angeles:20260322T120000
DTSTAMP:20260425T082913
CREATED:20251019T210617Z
LAST-MODIFIED:20251019T231042Z
UID:10000214-1774175400-1774180800@www.osucc.com
SUMMARY:Sunday Morning Church
DESCRIPTION:
URL:https://www.osucc.com/event/sunday-morning-church/2026-03-22/
LOCATION:Circle Church of Christ\, 2020 NW Circle Blvd\, Corvallis\, OR\, 97330\, United States
CATEGORIES:Bible Study,Circle Church of Christ
END:VEVENT
BEGIN:VEVENT
DTSTART;TZID=America/Los_Angeles:20260329T103000
DTEND;TZID=America/Los_Angeles:20260329T120000
DTSTAMP:20260425T082913
CREATED:20251019T210617Z
LAST-MODIFIED:20251019T231042Z
UID:10000215-1774780200-1774785600@www.osucc.com
SUMMARY:Sunday Morning Church
DESCRIPTION:
URL:https://www.osucc.com/event/sunday-morning-church/2026-03-29/
LOCATION:Circle Church of Christ\, 2020 NW Circle Blvd\, Corvallis\, OR\, 97330\, United States
CATEGORIES:Bible Study,Circle Church of Christ
END:VEVENT
BEGIN:VEVENT
DTSTART;TZID=America/Los_Angeles:20260405T103000
DTEND;TZID=America/Los_Angeles:20260405T120000
DTSTAMP:20260425T082913
CREATED:20251019T210617Z
LAST-MODIFIED:20251019T231042Z
UID:10000216-1775385000-1775390400@www.osucc.com
SUMMARY:Sunday Morning Church
DESCRIPTION:
URL:https://www.osucc.com/event/sunday-morning-church/2026-04-05/
LOCATION:Circle Church of Christ\, 2020 NW Circle Blvd\, Corvallis\, OR\, 97330\, United States
CATEGORIES:Bible Study,Circle Church of Christ
END:VEVENT
BEGIN:VEVENT
DTSTART;TZID=America/Los_Angeles:20260412T103000
DTEND;TZID=America/Los_Angeles:20260412T120000
DTSTAMP:20260425T082913
CREATED:20251019T210617Z
LAST-MODIFIED:20251019T231042Z
UID:10000217-1775989800-1775995200@www.osucc.com
SUMMARY:Sunday Morning Church
DESCRIPTION:
URL:https://www.osucc.com/event/sunday-morning-church/2026-04-12/
LOCATION:Circle Church of Christ\, 2020 NW Circle Blvd\, Corvallis\, OR\, 97330\, United States
CATEGORIES:Bible Study,Circle Church of Christ
END:VEVENT
BEGIN:VEVENT
DTSTART;TZID=America/Los_Angeles:20260419T103000
DTEND;TZID=America/Los_Angeles:20260419T120000
DTSTAMP:20260425T082913
CREATED:20251019T210617Z
LAST-MODIFIED:20251019T231042Z
UID:10000218-1776594600-1776600000@www.osucc.com
SUMMARY:Sunday Morning Church
DESCRIPTION:
URL:https://www.osucc.com/event/sunday-morning-church/2026-04-19/
LOCATION:Circle Church of Christ\, 2020 NW Circle Blvd\, Corvallis\, OR\, 97330\, United States
CATEGORIES:Bible Study,Circle Church of Christ
END:VEVENT
END:VCALENDAR