BEGIN:VCALENDAR
VERSION:2.0
PRODID:-//OSUCC - ECPv6.15.20//NONSGML v1.0//EN
CALSCALE:GREGORIAN
METHOD:PUBLISH
X-ORIGINAL-URL:https://www.osucc.com
X-WR-CALDESC:Events for OSUCC
REFRESH-INTERVAL;VALUE=DURATION:PT1H
X-Robots-Tag:noindex
X-PUBLISHED-TTL:PT1H
BEGIN:VTIMEZONE
TZID:America/Los_Angeles
BEGIN:DAYLIGHT
TZOFFSETFROM:-0800
TZOFFSETTO:-0700
TZNAME:PDT
DTSTART:20270314T100000
END:DAYLIGHT
BEGIN:STANDARD
TZOFFSETFROM:-0700
TZOFFSETTO:-0800
TZNAME:PST
DTSTART:20271107T090000
END:STANDARD
BEGIN:DAYLIGHT
TZOFFSETFROM:-0800
TZOFFSETTO:-0700
TZNAME:PDT
DTSTART:20280312T100000
END:DAYLIGHT
BEGIN:STANDARD
TZOFFSETFROM:-0700
TZOFFSETTO:-0800
TZNAME:PST
DTSTART:20281105T090000
END:STANDARD
BEGIN:DAYLIGHT
TZOFFSETFROM:-0800
TZOFFSETTO:-0700
TZNAME:PDT
DTSTART:20290311T100000
END:DAYLIGHT
BEGIN:STANDARD
TZOFFSETFROM:-0700
TZOFFSETTO:-0800
TZNAME:PST
DTSTART:20291104T090000
END:STANDARD
END:VTIMEZONE
BEGIN:VEVENT
DTSTART;TZID=America/Los_Angeles:20280220T103000
DTEND;TZID=America/Los_Angeles:20280220T120000
DTSTAMP:20260425T173225
CREATED:20251019T210617Z
LAST-MODIFIED:20251019T231042Z
UID:10000314-1834655400-1834660800@www.osucc.com
SUMMARY:Sunday Morning Church
DESCRIPTION:
URL:https://www.osucc.com/event/sunday-morning-church/2028-02-20/
LOCATION:Circle Church of Christ\, 2020 NW Circle Blvd\, Corvallis\, OR\, 97330\, United States
CATEGORIES:Bible Study,Circle Church of Christ
END:VEVENT
BEGIN:VEVENT
DTSTART;TZID=America/Los_Angeles:20280227T103000
DTEND;TZID=America/Los_Angeles:20280227T120000
DTSTAMP:20260425T173225
CREATED:20251019T210617Z
LAST-MODIFIED:20251019T231042Z
UID:10000315-1835260200-1835265600@www.osucc.com
SUMMARY:Sunday Morning Church
DESCRIPTION:
URL:https://www.osucc.com/event/sunday-morning-church/2028-02-27/
LOCATION:Circle Church of Christ\, 2020 NW Circle Blvd\, Corvallis\, OR\, 97330\, United States
CATEGORIES:Bible Study,Circle Church of Christ
END:VEVENT
BEGIN:VEVENT
DTSTART;TZID=America/Los_Angeles:20280305T103000
DTEND;TZID=America/Los_Angeles:20280305T120000
DTSTAMP:20260425T173225
CREATED:20251019T210617Z
LAST-MODIFIED:20251019T231042Z
UID:10000316-1835865000-1835870400@www.osucc.com
SUMMARY:Sunday Morning Church
DESCRIPTION:
URL:https://www.osucc.com/event/sunday-morning-church/2028-03-05/
LOCATION:Circle Church of Christ\, 2020 NW Circle Blvd\, Corvallis\, OR\, 97330\, United States
CATEGORIES:Bible Study,Circle Church of Christ
END:VEVENT
BEGIN:VEVENT
DTSTART;TZID=America/Los_Angeles:20280312T103000
DTEND;TZID=America/Los_Angeles:20280312T120000
DTSTAMP:20260425T173225
CREATED:20251019T210617Z
LAST-MODIFIED:20251019T231042Z
UID:10000317-1836469800-1836475200@www.osucc.com
SUMMARY:Sunday Morning Church
DESCRIPTION:
URL:https://www.osucc.com/event/sunday-morning-church/2028-03-12/
LOCATION:Circle Church of Christ\, 2020 NW Circle Blvd\, Corvallis\, OR\, 97330\, United States
CATEGORIES:Bible Study,Circle Church of Christ
END:VEVENT
BEGIN:VEVENT
DTSTART;TZID=America/Los_Angeles:20280319T103000
DTEND;TZID=America/Los_Angeles:20280319T120000
DTSTAMP:20260425T173225
CREATED:20251019T210617Z
LAST-MODIFIED:20251019T231042Z
UID:10000318-1837074600-1837080000@www.osucc.com
SUMMARY:Sunday Morning Church
DESCRIPTION:
URL:https://www.osucc.com/event/sunday-morning-church/2028-03-19/
LOCATION:Circle Church of Christ\, 2020 NW Circle Blvd\, Corvallis\, OR\, 97330\, United States
CATEGORIES:Bible Study,Circle Church of Christ
END:VEVENT
BEGIN:VEVENT
DTSTART;TZID=America/Los_Angeles:20280326T103000
DTEND;TZID=America/Los_Angeles:20280326T120000
DTSTAMP:20260425T173225
CREATED:20251019T210617Z
LAST-MODIFIED:20251019T231042Z
UID:10000319-1837679400-1837684800@www.osucc.com
SUMMARY:Sunday Morning Church
DESCRIPTION:
URL:https://www.osucc.com/event/sunday-morning-church/2028-03-26/
LOCATION:Circle Church of Christ\, 2020 NW Circle Blvd\, Corvallis\, OR\, 97330\, United States
CATEGORIES:Bible Study,Circle Church of Christ
END:VEVENT
BEGIN:VEVENT
DTSTART;TZID=America/Los_Angeles:20280402T103000
DTEND;TZID=America/Los_Angeles:20280402T120000
DTSTAMP:20260425T173225
CREATED:20251019T210617Z
LAST-MODIFIED:20251019T231042Z
UID:10000320-1838284200-1838289600@www.osucc.com
SUMMARY:Sunday Morning Church
DESCRIPTION:
URL:https://www.osucc.com/event/sunday-morning-church/2028-04-02/
LOCATION:Circle Church of Christ\, 2020 NW Circle Blvd\, Corvallis\, OR\, 97330\, United States
CATEGORIES:Bible Study,Circle Church of Christ
END:VEVENT
BEGIN:VEVENT
DTSTART;TZID=America/Los_Angeles:20280409T103000
DTEND;TZID=America/Los_Angeles:20280409T120000
DTSTAMP:20260425T173225
CREATED:20251019T210617Z
LAST-MODIFIED:20251019T231042Z
UID:10000321-1838889000-1838894400@www.osucc.com
SUMMARY:Sunday Morning Church
DESCRIPTION:
URL:https://www.osucc.com/event/sunday-morning-church/2028-04-09/
LOCATION:Circle Church of Christ\, 2020 NW Circle Blvd\, Corvallis\, OR\, 97330\, United States
CATEGORIES:Bible Study,Circle Church of Christ
END:VEVENT
BEGIN:VEVENT
DTSTART;TZID=America/Los_Angeles:20280416T103000
DTEND;TZID=America/Los_Angeles:20280416T120000
DTSTAMP:20260425T173225
CREATED:20251019T210617Z
LAST-MODIFIED:20251019T231042Z
UID:10000322-1839493800-1839499200@www.osucc.com
SUMMARY:Sunday Morning Church
DESCRIPTION:
URL:https://www.osucc.com/event/sunday-morning-church/2028-04-16/
LOCATION:Circle Church of Christ\, 2020 NW Circle Blvd\, Corvallis\, OR\, 97330\, United States
CATEGORIES:Bible Study,Circle Church of Christ
END:VEVENT
BEGIN:VEVENT
DTSTART;TZID=America/Los_Angeles:20280423T103000
DTEND;TZID=America/Los_Angeles:20280423T120000
DTSTAMP:20260425T173225
CREATED:20251019T210617Z
LAST-MODIFIED:20251019T231042Z
UID:10000323-1840098600-1840104000@www.osucc.com
SUMMARY:Sunday Morning Church
DESCRIPTION:
URL:https://www.osucc.com/event/sunday-morning-church/2028-04-23/
LOCATION:Circle Church of Christ\, 2020 NW Circle Blvd\, Corvallis\, OR\, 97330\, United States
CATEGORIES:Bible Study,Circle Church of Christ
END:VEVENT
BEGIN:VEVENT
DTSTART;TZID=America/Los_Angeles:20280430T103000
DTEND;TZID=America/Los_Angeles:20280430T120000
DTSTAMP:20260425T173225
CREATED:20251019T210617Z
LAST-MODIFIED:20251019T231042Z
UID:10000324-1840703400-1840708800@www.osucc.com
SUMMARY:Sunday Morning Church
DESCRIPTION:
URL:https://www.osucc.com/event/sunday-morning-church/2028-04-30/
LOCATION:Circle Church of Christ\, 2020 NW Circle Blvd\, Corvallis\, OR\, 97330\, United States
CATEGORIES:Bible Study,Circle Church of Christ
END:VEVENT
BEGIN:VEVENT
DTSTART;TZID=America/Los_Angeles:20280507T103000
DTEND;TZID=America/Los_Angeles:20280507T120000
DTSTAMP:20260425T173225
CREATED:20251019T210617Z
LAST-MODIFIED:20251019T231042Z
UID:10000325-1841308200-1841313600@www.osucc.com
SUMMARY:Sunday Morning Church
DESCRIPTION:
URL:https://www.osucc.com/event/sunday-morning-church/2028-05-07/
LOCATION:Circle Church of Christ\, 2020 NW Circle Blvd\, Corvallis\, OR\, 97330\, United States
CATEGORIES:Bible Study,Circle Church of Christ
END:VEVENT
BEGIN:VEVENT
DTSTART;TZID=America/Los_Angeles:20280514T103000
DTEND;TZID=America/Los_Angeles:20280514T120000
DTSTAMP:20260425T173225
CREATED:20251019T210617Z
LAST-MODIFIED:20251019T231042Z
UID:10000326-1841913000-1841918400@www.osucc.com
SUMMARY:Sunday Morning Church
DESCRIPTION:
URL:https://www.osucc.com/event/sunday-morning-church/2028-05-14/
LOCATION:Circle Church of Christ\, 2020 NW Circle Blvd\, Corvallis\, OR\, 97330\, United States
CATEGORIES:Bible Study,Circle Church of Christ
END:VEVENT
BEGIN:VEVENT
DTSTART;TZID=America/Los_Angeles:20280521T103000
DTEND;TZID=America/Los_Angeles:20280521T120000
DTSTAMP:20260425T173225
CREATED:20251019T210617Z
LAST-MODIFIED:20251019T231042Z
UID:10000327-1842517800-1842523200@www.osucc.com
SUMMARY:Sunday Morning Church
DESCRIPTION:
URL:https://www.osucc.com/event/sunday-morning-church/2028-05-21/
LOCATION:Circle Church of Christ\, 2020 NW Circle Blvd\, Corvallis\, OR\, 97330\, United States
CATEGORIES:Bible Study,Circle Church of Christ
END:VEVENT
BEGIN:VEVENT
DTSTART;TZID=America/Los_Angeles:20280528T103000
DTEND;TZID=America/Los_Angeles:20280528T120000
DTSTAMP:20260425T173225
CREATED:20251019T210617Z
LAST-MODIFIED:20251019T231042Z
UID:10000328-1843122600-1843128000@www.osucc.com
SUMMARY:Sunday Morning Church
DESCRIPTION:
URL:https://www.osucc.com/event/sunday-morning-church/2028-05-28/
LOCATION:Circle Church of Christ\, 2020 NW Circle Blvd\, Corvallis\, OR\, 97330\, United States
CATEGORIES:Bible Study,Circle Church of Christ
END:VEVENT
BEGIN:VEVENT
DTSTART;TZID=America/Los_Angeles:20280604T103000
DTEND;TZID=America/Los_Angeles:20280604T120000
DTSTAMP:20260425T173225
CREATED:20251019T210617Z
LAST-MODIFIED:20251019T231042Z
UID:10000329-1843727400-1843732800@www.osucc.com
SUMMARY:Sunday Morning Church
DESCRIPTION:
URL:https://www.osucc.com/event/sunday-morning-church/2028-06-04/
LOCATION:Circle Church of Christ\, 2020 NW Circle Blvd\, Corvallis\, OR\, 97330\, United States
CATEGORIES:Bible Study,Circle Church of Christ
END:VEVENT
BEGIN:VEVENT
DTSTART;TZID=America/Los_Angeles:20280611T103000
DTEND;TZID=America/Los_Angeles:20280611T120000
DTSTAMP:20260425T173225
CREATED:20251019T210617Z
LAST-MODIFIED:20251019T231042Z
UID:10000330-1844332200-1844337600@www.osucc.com
SUMMARY:Sunday Morning Church
DESCRIPTION:
URL:https://www.osucc.com/event/sunday-morning-church/2028-06-11/
LOCATION:Circle Church of Christ\, 2020 NW Circle Blvd\, Corvallis\, OR\, 97330\, United States
CATEGORIES:Bible Study,Circle Church of Christ
END:VEVENT
BEGIN:VEVENT
DTSTART;TZID=America/Los_Angeles:20280618T103000
DTEND;TZID=America/Los_Angeles:20280618T120000
DTSTAMP:20260425T173225
CREATED:20251019T210617Z
LAST-MODIFIED:20251019T231042Z
UID:10000331-1844937000-1844942400@www.osucc.com
SUMMARY:Sunday Morning Church
DESCRIPTION:
URL:https://www.osucc.com/event/sunday-morning-church/2028-06-18/
LOCATION:Circle Church of Christ\, 2020 NW Circle Blvd\, Corvallis\, OR\, 97330\, United States
CATEGORIES:Bible Study,Circle Church of Christ
END:VEVENT
BEGIN:VEVENT
DTSTART;TZID=America/Los_Angeles:20280625T103000
DTEND;TZID=America/Los_Angeles:20280625T120000
DTSTAMP:20260425T173225
CREATED:20251019T210617Z
LAST-MODIFIED:20251019T231042Z
UID:10000332-1845541800-1845547200@www.osucc.com
SUMMARY:Sunday Morning Church
DESCRIPTION:
URL:https://www.osucc.com/event/sunday-morning-church/2028-06-25/
LOCATION:Circle Church of Christ\, 2020 NW Circle Blvd\, Corvallis\, OR\, 97330\, United States
CATEGORIES:Bible Study,Circle Church of Christ
END:VEVENT
BEGIN:VEVENT
DTSTART;TZID=America/Los_Angeles:20280702T103000
DTEND;TZID=America/Los_Angeles:20280702T120000
DTSTAMP:20260425T173225
CREATED:20251019T210617Z
LAST-MODIFIED:20251019T231042Z
UID:10000333-1846146600-1846152000@www.osucc.com
SUMMARY:Sunday Morning Church
DESCRIPTION:
URL:https://www.osucc.com/event/sunday-morning-church/2028-07-02/
LOCATION:Circle Church of Christ\, 2020 NW Circle Blvd\, Corvallis\, OR\, 97330\, United States
CATEGORIES:Bible Study,Circle Church of Christ
END:VEVENT
BEGIN:VEVENT
DTSTART;TZID=America/Los_Angeles:20280709T103000
DTEND;TZID=America/Los_Angeles:20280709T120000
DTSTAMP:20260425T173225
CREATED:20251019T210617Z
LAST-MODIFIED:20251019T231042Z
UID:10000334-1846751400-1846756800@www.osucc.com
SUMMARY:Sunday Morning Church
DESCRIPTION:
URL:https://www.osucc.com/event/sunday-morning-church/2028-07-09/
LOCATION:Circle Church of Christ\, 2020 NW Circle Blvd\, Corvallis\, OR\, 97330\, United States
CATEGORIES:Bible Study,Circle Church of Christ
END:VEVENT
BEGIN:VEVENT
DTSTART;TZID=America/Los_Angeles:20280716T103000
DTEND;TZID=America/Los_Angeles:20280716T120000
DTSTAMP:20260425T173225
CREATED:20251019T210617Z
LAST-MODIFIED:20251019T231042Z
UID:10000335-1847356200-1847361600@www.osucc.com
SUMMARY:Sunday Morning Church
DESCRIPTION:
URL:https://www.osucc.com/event/sunday-morning-church/2028-07-16/
LOCATION:Circle Church of Christ\, 2020 NW Circle Blvd\, Corvallis\, OR\, 97330\, United States
CATEGORIES:Bible Study,Circle Church of Christ
END:VEVENT
BEGIN:VEVENT
DTSTART;TZID=America/Los_Angeles:20280723T103000
DTEND;TZID=America/Los_Angeles:20280723T120000
DTSTAMP:20260425T173225
CREATED:20251019T210617Z
LAST-MODIFIED:20251019T231042Z
UID:10000336-1847961000-1847966400@www.osucc.com
SUMMARY:Sunday Morning Church
DESCRIPTION:
URL:https://www.osucc.com/event/sunday-morning-church/2028-07-23/
LOCATION:Circle Church of Christ\, 2020 NW Circle Blvd\, Corvallis\, OR\, 97330\, United States
CATEGORIES:Bible Study,Circle Church of Christ
END:VEVENT
BEGIN:VEVENT
DTSTART;TZID=America/Los_Angeles:20280730T103000
DTEND;TZID=America/Los_Angeles:20280730T120000
DTSTAMP:20260425T173225
CREATED:20251019T210617Z
LAST-MODIFIED:20251019T231042Z
UID:10000337-1848565800-1848571200@www.osucc.com
SUMMARY:Sunday Morning Church
DESCRIPTION:
URL:https://www.osucc.com/event/sunday-morning-church/2028-07-30/
LOCATION:Circle Church of Christ\, 2020 NW Circle Blvd\, Corvallis\, OR\, 97330\, United States
CATEGORIES:Bible Study,Circle Church of Christ
END:VEVENT
BEGIN:VEVENT
DTSTART;TZID=America/Los_Angeles:20280806T103000
DTEND;TZID=America/Los_Angeles:20280806T120000
DTSTAMP:20260425T173225
CREATED:20251019T210617Z
LAST-MODIFIED:20251019T231042Z
UID:10000338-1849170600-1849176000@www.osucc.com
SUMMARY:Sunday Morning Church
DESCRIPTION:
URL:https://www.osucc.com/event/sunday-morning-church/2028-08-06/
LOCATION:Circle Church of Christ\, 2020 NW Circle Blvd\, Corvallis\, OR\, 97330\, United States
CATEGORIES:Bible Study,Circle Church of Christ
END:VEVENT
BEGIN:VEVENT
DTSTART;TZID=America/Los_Angeles:20280813T103000
DTEND;TZID=America/Los_Angeles:20280813T120000
DTSTAMP:20260425T173225
CREATED:20251019T210617Z
LAST-MODIFIED:20251019T231042Z
UID:10000339-1849775400-1849780800@www.osucc.com
SUMMARY:Sunday Morning Church
DESCRIPTION:
URL:https://www.osucc.com/event/sunday-morning-church/2028-08-13/
LOCATION:Circle Church of Christ\, 2020 NW Circle Blvd\, Corvallis\, OR\, 97330\, United States
CATEGORIES:Bible Study,Circle Church of Christ
END:VEVENT
BEGIN:VEVENT
DTSTART;TZID=America/Los_Angeles:20280820T103000
DTEND;TZID=America/Los_Angeles:20280820T120000
DTSTAMP:20260425T173225
CREATED:20251019T210617Z
LAST-MODIFIED:20251019T231042Z
UID:10000340-1850380200-1850385600@www.osucc.com
SUMMARY:Sunday Morning Church
DESCRIPTION:
URL:https://www.osucc.com/event/sunday-morning-church/2028-08-20/
LOCATION:Circle Church of Christ\, 2020 NW Circle Blvd\, Corvallis\, OR\, 97330\, United States
CATEGORIES:Bible Study,Circle Church of Christ
END:VEVENT
BEGIN:VEVENT
DTSTART;TZID=America/Los_Angeles:20280827T103000
DTEND;TZID=America/Los_Angeles:20280827T120000
DTSTAMP:20260425T173225
CREATED:20251019T210617Z
LAST-MODIFIED:20251019T231042Z
UID:10000341-1850985000-1850990400@www.osucc.com
SUMMARY:Sunday Morning Church
DESCRIPTION:
URL:https://www.osucc.com/event/sunday-morning-church/2028-08-27/
LOCATION:Circle Church of Christ\, 2020 NW Circle Blvd\, Corvallis\, OR\, 97330\, United States
CATEGORIES:Bible Study,Circle Church of Christ
END:VEVENT
BEGIN:VEVENT
DTSTART;TZID=America/Los_Angeles:20280903T103000
DTEND;TZID=America/Los_Angeles:20280903T120000
DTSTAMP:20260425T173225
CREATED:20251019T210617Z
LAST-MODIFIED:20251019T231042Z
UID:10000342-1851589800-1851595200@www.osucc.com
SUMMARY:Sunday Morning Church
DESCRIPTION:
URL:https://www.osucc.com/event/sunday-morning-church/2028-09-03/
LOCATION:Circle Church of Christ\, 2020 NW Circle Blvd\, Corvallis\, OR\, 97330\, United States
CATEGORIES:Bible Study,Circle Church of Christ
END:VEVENT
BEGIN:VEVENT
DTSTART;TZID=America/Los_Angeles:20280910T103000
DTEND;TZID=America/Los_Angeles:20280910T120000
DTSTAMP:20260425T173225
CREATED:20251019T210617Z
LAST-MODIFIED:20251019T231042Z
UID:10000343-1852194600-1852200000@www.osucc.com
SUMMARY:Sunday Morning Church
DESCRIPTION:
URL:https://www.osucc.com/event/sunday-morning-church/2028-09-10/
LOCATION:Circle Church of Christ\, 2020 NW Circle Blvd\, Corvallis\, OR\, 97330\, United States
CATEGORIES:Bible Study,Circle Church of Christ
END:VEVENT
END:VCALENDAR