BEGIN:VCALENDAR
VERSION:2.0
PRODID:-//OSUCC - ECPv6.15.20//NONSGML v1.0//EN
CALSCALE:GREGORIAN
METHOD:PUBLISH
X-WR-CALNAME:OSUCC
X-ORIGINAL-URL:https://www.osucc.com
X-WR-CALDESC:Events for OSUCC
REFRESH-INTERVAL;VALUE=DURATION:PT1H
X-Robots-Tag:noindex
X-PUBLISHED-TTL:PT1H
BEGIN:VTIMEZONE
TZID:America/Los_Angeles
BEGIN:DAYLIGHT
TZOFFSETFROM:-0800
TZOFFSETTO:-0700
TZNAME:PDT
DTSTART:20250309T100000
END:DAYLIGHT
BEGIN:STANDARD
TZOFFSETFROM:-0700
TZOFFSETTO:-0800
TZNAME:PST
DTSTART:20251102T090000
END:STANDARD
BEGIN:DAYLIGHT
TZOFFSETFROM:-0800
TZOFFSETTO:-0700
TZNAME:PDT
DTSTART:20260308T100000
END:DAYLIGHT
BEGIN:STANDARD
TZOFFSETFROM:-0700
TZOFFSETTO:-0800
TZNAME:PST
DTSTART:20261101T090000
END:STANDARD
BEGIN:DAYLIGHT
TZOFFSETFROM:-0800
TZOFFSETTO:-0700
TZNAME:PDT
DTSTART:20270314T100000
END:DAYLIGHT
BEGIN:STANDARD
TZOFFSETFROM:-0700
TZOFFSETTO:-0800
TZNAME:PST
DTSTART:20271107T090000
END:STANDARD
END:VTIMEZONE
BEGIN:VEVENT
DTSTART;TZID=America/Los_Angeles:20260502T090000
DTEND;TZID=America/Los_Angeles:20260502T130000
DTSTAMP:20260425T063439
CREATED:20260321T201820Z
LAST-MODIFIED:20260422T210407Z
UID:10000543-1777712400-1777726800@www.osucc.com
SUMMARY:Farmers Market
DESCRIPTION:Walks to the Farmers Market beginning of May. There’s no requirement to buy anything at the market\, especially if you don’t have money.
URL:https://www.osucc.com/event/farmers-market/
LOCATION:University Christian Center\, 1655 NW Monroe Ave\, Corvallis\, Oregon\, 97330\, United States
CATEGORIES:Student Hosted Events
ATTACH;FMTTYPE=image/jpeg:https://www.osucc.com/wp-content/uploads/2026/03/IMG_9934-1.jpeg
END:VEVENT
BEGIN:VEVENT
DTSTART;TZID=America/Los_Angeles:20260508T180000
DTEND;TZID=America/Los_Angeles:20260508T230000
DTSTAMP:20260425T063439
CREATED:20260321T201659Z
LAST-MODIFIED:20260321T202552Z
UID:10000545-1778263200-1778281200@www.osucc.com
SUMMARY:End Of Term Bonfire
DESCRIPTION:Come to our end of term celebration bonfire potluck on May 8th 6pm to 11pm! Along with the fire there will be games\, smores\, hot dogs\, and music! Feel free to bring your favorite snack\, treat\, or drink and come for a good time of fellowship!
URL:https://www.osucc.com/event/end-of-term-bonfire/
LOCATION:Oregon
CATEGORIES:Student Hosted Events
END:VEVENT
END:VCALENDAR