BEGIN:VCALENDAR
VERSION:2.0
PRODID:-//OSUCC - ECPv6.15.20//NONSGML v1.0//EN
CALSCALE:GREGORIAN
METHOD:PUBLISH
X-WR-CALNAME:OSUCC
X-ORIGINAL-URL:https://www.osucc.com
X-WR-CALDESC:Events for OSUCC
REFRESH-INTERVAL;VALUE=DURATION:PT1H
X-Robots-Tag:noindex
X-PUBLISHED-TTL:PT1H
BEGIN:VTIMEZONE
TZID:America/Los_Angeles
BEGIN:DAYLIGHT
TZOFFSETFROM:-0800
TZOFFSETTO:-0700
TZNAME:PDT
DTSTART:20250309T100000
END:DAYLIGHT
BEGIN:STANDARD
TZOFFSETFROM:-0700
TZOFFSETTO:-0800
TZNAME:PST
DTSTART:20251102T090000
END:STANDARD
BEGIN:DAYLIGHT
TZOFFSETFROM:-0800
TZOFFSETTO:-0700
TZNAME:PDT
DTSTART:20260308T100000
END:DAYLIGHT
BEGIN:STANDARD
TZOFFSETFROM:-0700
TZOFFSETTO:-0800
TZNAME:PST
DTSTART:20261101T090000
END:STANDARD
BEGIN:DAYLIGHT
TZOFFSETFROM:-0800
TZOFFSETTO:-0700
TZNAME:PDT
DTSTART:20270314T100000
END:DAYLIGHT
BEGIN:STANDARD
TZOFFSETFROM:-0700
TZOFFSETTO:-0800
TZNAME:PST
DTSTART:20271107T090000
END:STANDARD
END:VTIMEZONE
BEGIN:VEVENT
DTSTART;TZID=America/Los_Angeles:20260217T130000
DTEND;TZID=America/Los_Angeles:20260217T180000
DTSTAMP:20260425T065707
CREATED:20251019T214200Z
LAST-MODIFIED:20251019T214200Z
UID:10000474-1771333200-1771351200@www.osucc.com
SUMMARY:Tuesday Coffee
DESCRIPTION:
URL:https://www.osucc.com/event/tuesday-coffee/2026-02-17/
LOCATION:University Christian Center\, 1655 NW Monroe Ave\, Corvallis\, Oregon\, 97330\, United States
END:VEVENT
BEGIN:VEVENT
DTSTART;TZID=America/Los_Angeles:20260220T180000
DTEND;TZID=America/Los_Angeles:20260220T203000
DTSTAMP:20260425T065707
CREATED:20260210T175711Z
LAST-MODIFIED:20260210T175720Z
UID:10000539-1771610400-1771619400@www.osucc.com
SUMMARY:Paddington Movie and Game Night
DESCRIPTION:Come to UCC for a fun night of the movie Paddington and games with your favorite Paddington themed snacks including oranges\, jam\, gummy bears\, and teddy grahams and more.
URL:https://www.osucc.com/event/paddington-movie-and-game-night/
LOCATION:University Christian Center\, 1655 NW Monroe Ave\, Corvallis\, Oregon\, 97330\, United States
END:VEVENT
BEGIN:VEVENT
DTSTART;TZID=America/Los_Angeles:20260221T180000
DTEND;TZID=America/Los_Angeles:20260221T200000
DTSTAMP:20260425T065707
CREATED:20251019T210314Z
LAST-MODIFIED:20251019T221519Z
UID:10000151-1771696800-1771704000@www.osucc.com
SUMMARY:Saturday Night Sports
DESCRIPTION:Check Instagram for Location and Sports!!
URL:https://www.osucc.com/event/saturday-night-sports/2026-02-21/
LOCATION:Oregon
CATEGORIES:Sports
END:VEVENT
BEGIN:VEVENT
DTSTART;TZID=America/Los_Angeles:20260222T103000
DTEND;TZID=America/Los_Angeles:20260222T120000
DTSTAMP:20260425T065707
CREATED:20251019T210617Z
LAST-MODIFIED:20251019T231042Z
UID:10000210-1771756200-1771761600@www.osucc.com
SUMMARY:Sunday Morning Church
DESCRIPTION:
URL:https://www.osucc.com/event/sunday-morning-church/2026-02-22/
LOCATION:Circle Church of Christ\, 2020 NW Circle Blvd\, Corvallis\, OR\, 97330\, United States
CATEGORIES:Bible Study,Circle Church of Christ
END:VEVENT
BEGIN:VEVENT
DTSTART;TZID=America/Los_Angeles:20260224T130000
DTEND;TZID=America/Los_Angeles:20260224T180000
DTSTAMP:20260425T065707
CREATED:20251019T214200Z
LAST-MODIFIED:20251019T214200Z
UID:10000475-1771938000-1771956000@www.osucc.com
SUMMARY:Tuesday Coffee
DESCRIPTION:
URL:https://www.osucc.com/event/tuesday-coffee/2026-02-24/
LOCATION:University Christian Center\, 1655 NW Monroe Ave\, Corvallis\, Oregon\, 97330\, United States
END:VEVENT
BEGIN:VEVENT
DTSTART;TZID=America/Los_Angeles:20260228T180000
DTEND;TZID=America/Los_Angeles:20260228T200000
DTSTAMP:20260425T065707
CREATED:20251019T210314Z
LAST-MODIFIED:20251019T221519Z
UID:10000152-1772301600-1772308800@www.osucc.com
SUMMARY:Saturday Night Sports
DESCRIPTION:Check Instagram for Location and Sports!!
URL:https://www.osucc.com/event/saturday-night-sports/2026-02-28/
LOCATION:Oregon
CATEGORIES:Sports
END:VEVENT
BEGIN:VEVENT
DTSTART;TZID=America/Los_Angeles:20260301T103000
DTEND;TZID=America/Los_Angeles:20260301T120000
DTSTAMP:20260425T065707
CREATED:20251019T210617Z
LAST-MODIFIED:20251019T231042Z
UID:10000211-1772361000-1772366400@www.osucc.com
SUMMARY:Sunday Morning Church
DESCRIPTION:
URL:https://www.osucc.com/event/sunday-morning-church/2026-03-01/
LOCATION:Circle Church of Christ\, 2020 NW Circle Blvd\, Corvallis\, OR\, 97330\, United States
CATEGORIES:Bible Study,Circle Church of Christ
END:VEVENT
BEGIN:VEVENT
DTSTART;TZID=America/Los_Angeles:20260303T130000
DTEND;TZID=America/Los_Angeles:20260303T180000
DTSTAMP:20260425T065707
CREATED:20251019T214200Z
LAST-MODIFIED:20251019T214200Z
UID:10000476-1772542800-1772560800@www.osucc.com
SUMMARY:Tuesday Coffee
DESCRIPTION:
URL:https://www.osucc.com/event/tuesday-coffee/2026-03-03/
LOCATION:University Christian Center\, 1655 NW Monroe Ave\, Corvallis\, Oregon\, 97330\, United States
END:VEVENT
BEGIN:VEVENT
DTSTART;TZID=America/Los_Angeles:20260307T180000
DTEND;TZID=America/Los_Angeles:20260307T200000
DTSTAMP:20260425T065707
CREATED:20251019T210314Z
LAST-MODIFIED:20251019T221519Z
UID:10000153-1772906400-1772913600@www.osucc.com
SUMMARY:Saturday Night Sports
DESCRIPTION:Check Instagram for Location and Sports!!
URL:https://www.osucc.com/event/saturday-night-sports/2026-03-07/
LOCATION:Oregon
CATEGORIES:Sports
END:VEVENT
BEGIN:VEVENT
DTSTART;TZID=America/Los_Angeles:20260308T103000
DTEND;TZID=America/Los_Angeles:20260308T120000
DTSTAMP:20260425T065707
CREATED:20251019T210617Z
LAST-MODIFIED:20251019T231042Z
UID:10000212-1772965800-1772971200@www.osucc.com
SUMMARY:Sunday Morning Church
DESCRIPTION:
URL:https://www.osucc.com/event/sunday-morning-church/2026-03-08/
LOCATION:Circle Church of Christ\, 2020 NW Circle Blvd\, Corvallis\, OR\, 97330\, United States
CATEGORIES:Bible Study,Circle Church of Christ
END:VEVENT
BEGIN:VEVENT
DTSTART;TZID=America/Los_Angeles:20260310T130000
DTEND;TZID=America/Los_Angeles:20260310T180000
DTSTAMP:20260425T065707
CREATED:20251019T214200Z
LAST-MODIFIED:20251019T214200Z
UID:10000477-1773147600-1773165600@www.osucc.com
SUMMARY:Tuesday Coffee
DESCRIPTION:
URL:https://www.osucc.com/event/tuesday-coffee/2026-03-10/
LOCATION:University Christian Center\, 1655 NW Monroe Ave\, Corvallis\, Oregon\, 97330\, United States
END:VEVENT
BEGIN:VEVENT
DTSTART;TZID=America/Los_Angeles:20260314T180000
DTEND;TZID=America/Los_Angeles:20260314T200000
DTSTAMP:20260425T065707
CREATED:20251019T210314Z
LAST-MODIFIED:20251019T221519Z
UID:10000154-1773511200-1773518400@www.osucc.com
SUMMARY:Saturday Night Sports
DESCRIPTION:Check Instagram for Location and Sports!!
URL:https://www.osucc.com/event/saturday-night-sports/2026-03-14/
LOCATION:Oregon
CATEGORIES:Sports
END:VEVENT
BEGIN:VEVENT
DTSTART;TZID=America/Los_Angeles:20260315T103000
DTEND;TZID=America/Los_Angeles:20260315T120000
DTSTAMP:20260425T065707
CREATED:20251019T210617Z
LAST-MODIFIED:20251019T231042Z
UID:10000213-1773570600-1773576000@www.osucc.com
SUMMARY:Sunday Morning Church
DESCRIPTION:
URL:https://www.osucc.com/event/sunday-morning-church/2026-03-15/
LOCATION:Circle Church of Christ\, 2020 NW Circle Blvd\, Corvallis\, OR\, 97330\, United States
CATEGORIES:Bible Study,Circle Church of Christ
END:VEVENT
BEGIN:VEVENT
DTSTART;TZID=America/Los_Angeles:20260317T130000
DTEND;TZID=America/Los_Angeles:20260317T180000
DTSTAMP:20260425T065708
CREATED:20251019T214200Z
LAST-MODIFIED:20251019T214200Z
UID:10000478-1773752400-1773770400@www.osucc.com
SUMMARY:Tuesday Coffee
DESCRIPTION:
URL:https://www.osucc.com/event/tuesday-coffee/2026-03-17/
LOCATION:University Christian Center\, 1655 NW Monroe Ave\, Corvallis\, Oregon\, 97330\, United States
END:VEVENT
BEGIN:VEVENT
DTSTART;TZID=America/Los_Angeles:20260317T183000
DTEND;TZID=America/Los_Angeles:20260317T200000
DTSTAMP:20260425T065708
CREATED:20251229T225543Z
LAST-MODIFIED:20251229T225543Z
UID:10000530-1773772200-1773777600@www.osucc.com
SUMMARY:Tuesday Night Bible Study
DESCRIPTION:
URL:https://www.osucc.com/event/tuesday-night-bible-study-14/
LOCATION:University Christian Center\, 1655 NW Monroe Ave\, Corvallis\, Oregon\, 97330\, United States
CATEGORIES:Bible Study
ORGANIZER;CN="Joshua Stutzman":MAILTO:stutzman.joshua@gmail.com
END:VEVENT
BEGIN:VEVENT
DTSTART;TZID=America/Los_Angeles:20260321T180000
DTEND;TZID=America/Los_Angeles:20260321T200000
DTSTAMP:20260425T065708
CREATED:20251019T210314Z
LAST-MODIFIED:20251019T221519Z
UID:10000155-1774116000-1774123200@www.osucc.com
SUMMARY:Saturday Night Sports
DESCRIPTION:Check Instagram for Location and Sports!!
URL:https://www.osucc.com/event/saturday-night-sports/2026-03-21/
LOCATION:Oregon
CATEGORIES:Sports
END:VEVENT
BEGIN:VEVENT
DTSTART;TZID=America/Los_Angeles:20260322T103000
DTEND;TZID=America/Los_Angeles:20260322T120000
DTSTAMP:20260425T065708
CREATED:20251019T210617Z
LAST-MODIFIED:20251019T231042Z
UID:10000214-1774175400-1774180800@www.osucc.com
SUMMARY:Sunday Morning Church
DESCRIPTION:
URL:https://www.osucc.com/event/sunday-morning-church/2026-03-22/
LOCATION:Circle Church of Christ\, 2020 NW Circle Blvd\, Corvallis\, OR\, 97330\, United States
CATEGORIES:Bible Study,Circle Church of Christ
END:VEVENT
BEGIN:VEVENT
DTSTART;TZID=America/Los_Angeles:20260324T130000
DTEND;TZID=America/Los_Angeles:20260324T180000
DTSTAMP:20260425T065708
CREATED:20251019T214200Z
LAST-MODIFIED:20251019T214200Z
UID:10000479-1774357200-1774375200@www.osucc.com
SUMMARY:Tuesday Coffee
DESCRIPTION:
URL:https://www.osucc.com/event/tuesday-coffee/2026-03-24/
LOCATION:University Christian Center\, 1655 NW Monroe Ave\, Corvallis\, Oregon\, 97330\, United States
END:VEVENT
BEGIN:VEVENT
DTSTART;TZID=America/Los_Angeles:20260328T180000
DTEND;TZID=America/Los_Angeles:20260328T200000
DTSTAMP:20260425T065708
CREATED:20251019T210314Z
LAST-MODIFIED:20251019T221519Z
UID:10000156-1774720800-1774728000@www.osucc.com
SUMMARY:Saturday Night Sports
DESCRIPTION:Check Instagram for Location and Sports!!
URL:https://www.osucc.com/event/saturday-night-sports/2026-03-28/
LOCATION:Oregon
CATEGORIES:Sports
END:VEVENT
BEGIN:VEVENT
DTSTART;TZID=America/Los_Angeles:20260329T103000
DTEND;TZID=America/Los_Angeles:20260329T120000
DTSTAMP:20260425T065708
CREATED:20251019T210617Z
LAST-MODIFIED:20251019T231042Z
UID:10000215-1774780200-1774785600@www.osucc.com
SUMMARY:Sunday Morning Church
DESCRIPTION:
URL:https://www.osucc.com/event/sunday-morning-church/2026-03-29/
LOCATION:Circle Church of Christ\, 2020 NW Circle Blvd\, Corvallis\, OR\, 97330\, United States
CATEGORIES:Bible Study,Circle Church of Christ
END:VEVENT
BEGIN:VEVENT
DTSTART;TZID=America/Los_Angeles:20260331T130000
DTEND;TZID=America/Los_Angeles:20260331T180000
DTSTAMP:20260425T065708
CREATED:20251019T214200Z
LAST-MODIFIED:20251019T214200Z
UID:10000480-1774962000-1774980000@www.osucc.com
SUMMARY:Tuesday Coffee
DESCRIPTION:
URL:https://www.osucc.com/event/tuesday-coffee/2026-03-31/
LOCATION:University Christian Center\, 1655 NW Monroe Ave\, Corvallis\, Oregon\, 97330\, United States
END:VEVENT
BEGIN:VEVENT
DTSTART;TZID=America/Los_Angeles:20260331T183000
DTEND;TZID=America/Los_Angeles:20260331T200000
DTSTAMP:20260425T065708
CREATED:20260321T205136Z
LAST-MODIFIED:20260321T205136Z
UID:10000557-1774981800-1774987200@www.osucc.com
SUMMARY:Tuesday Night Bible Study
DESCRIPTION:
URL:https://www.osucc.com/event/tuesday-night-bible-study-11/
LOCATION:University Christian Center\, 1655 NW Monroe Ave\, Corvallis\, Oregon\, 97330\, United States
CATEGORIES:Bible Study
ORGANIZER;CN="Joshua Stutzman":MAILTO:stutzman.joshua@gmail.com
END:VEVENT
BEGIN:VEVENT
DTSTART;TZID=America/Los_Angeles:20260404T160000
DTEND;TZID=America/Los_Angeles:20260404T180000
DTSTAMP:20260425T065708
CREATED:20260321T201928Z
LAST-MODIFIED:20260330T215332Z
UID:10000544-1775318400-1775325600@www.osucc.com
SUMMARY:Easter Egg Hunt
DESCRIPTION:Join us for snacks\, an Easter egg hunt\, and egg decorating. Snacks will include Easter-themed treats; feel free to bring any of your favorite foods to share. Easter egg hunt will hold goodies (candy\, stickers\, money etc.) and there will be a golden egg hidden with a special prize! Egg decorating will conclude our event. Brown paper bags will be provided and everyone will be given the opportunity to decorate their egg collection bag!
URL:https://www.osucc.com/event/easter-egg-hunt/
LOCATION:University Christian Center\, 1655 NW Monroe Ave\, Corvallis\, Oregon\, 97330\, United States
CATEGORIES:Student Hosted Events
END:VEVENT
BEGIN:VEVENT
DTSTART;TZID=America/Los_Angeles:20260404T180000
DTEND;TZID=America/Los_Angeles:20260404T200000
DTSTAMP:20260425T065708
CREATED:20251019T210314Z
LAST-MODIFIED:20251019T221519Z
UID:10000157-1775325600-1775332800@www.osucc.com
SUMMARY:Saturday Night Sports
DESCRIPTION:Check Instagram for Location and Sports!!
URL:https://www.osucc.com/event/saturday-night-sports/2026-04-04/
LOCATION:Oregon
CATEGORIES:Sports
END:VEVENT
BEGIN:VEVENT
DTSTART;TZID=America/Los_Angeles:20260405T103000
DTEND;TZID=America/Los_Angeles:20260405T120000
DTSTAMP:20260425T065708
CREATED:20251019T210617Z
LAST-MODIFIED:20251019T231042Z
UID:10000216-1775385000-1775390400@www.osucc.com
SUMMARY:Sunday Morning Church
DESCRIPTION:
URL:https://www.osucc.com/event/sunday-morning-church/2026-04-05/
LOCATION:Circle Church of Christ\, 2020 NW Circle Blvd\, Corvallis\, OR\, 97330\, United States
CATEGORIES:Bible Study,Circle Church of Christ
END:VEVENT
BEGIN:VEVENT
DTSTART;TZID=America/Los_Angeles:20260407T130000
DTEND;TZID=America/Los_Angeles:20260407T180000
DTSTAMP:20260425T065708
CREATED:20251019T214200Z
LAST-MODIFIED:20251019T214200Z
UID:10000481-1775566800-1775584800@www.osucc.com
SUMMARY:Tuesday Coffee
DESCRIPTION:
URL:https://www.osucc.com/event/tuesday-coffee/2026-04-07/
LOCATION:University Christian Center\, 1655 NW Monroe Ave\, Corvallis\, Oregon\, 97330\, United States
END:VEVENT
BEGIN:VEVENT
DTSTART;TZID=America/Los_Angeles:20260407T183000
DTEND;TZID=America/Los_Angeles:20260407T200000
DTSTAMP:20260425T065708
CREATED:20260321T205034Z
LAST-MODIFIED:20260321T205034Z
UID:10000556-1775586600-1775592000@www.osucc.com
SUMMARY:Tuesday Night Bible Study
DESCRIPTION:
URL:https://www.osucc.com/event/tuesday-night-bible-study-10/
LOCATION:University Christian Center\, 1655 NW Monroe Ave\, Corvallis\, Oregon\, 97330\, United States
CATEGORIES:Bible Study
ORGANIZER;CN="Joshua Stutzman":MAILTO:stutzman.joshua@gmail.com
END:VEVENT
BEGIN:VEVENT
DTSTART;TZID=America/Los_Angeles:20260411T180000
DTEND;TZID=America/Los_Angeles:20260411T200000
DTSTAMP:20260425T065708
CREATED:20251019T210314Z
LAST-MODIFIED:20251019T221519Z
UID:10000158-1775930400-1775937600@www.osucc.com
SUMMARY:Saturday Night Sports
DESCRIPTION:Check Instagram for Location and Sports!!
URL:https://www.osucc.com/event/saturday-night-sports/2026-04-11/
LOCATION:Oregon
CATEGORIES:Sports
END:VEVENT
BEGIN:VEVENT
DTSTART;TZID=America/Los_Angeles:20260412T103000
DTEND;TZID=America/Los_Angeles:20260412T120000
DTSTAMP:20260425T065708
CREATED:20251019T210617Z
LAST-MODIFIED:20251019T231042Z
UID:10000217-1775989800-1775995200@www.osucc.com
SUMMARY:Sunday Morning Church
DESCRIPTION:
URL:https://www.osucc.com/event/sunday-morning-church/2026-04-12/
LOCATION:Circle Church of Christ\, 2020 NW Circle Blvd\, Corvallis\, OR\, 97330\, United States
CATEGORIES:Bible Study,Circle Church of Christ
END:VEVENT
BEGIN:VEVENT
DTSTART;TZID=America/Los_Angeles:20260414T130000
DTEND;TZID=America/Los_Angeles:20260414T180000
DTSTAMP:20260425T065708
CREATED:20251019T214200Z
LAST-MODIFIED:20251019T214200Z
UID:10000482-1776171600-1776189600@www.osucc.com
SUMMARY:Tuesday Coffee
DESCRIPTION:
URL:https://www.osucc.com/event/tuesday-coffee/2026-04-14/
LOCATION:University Christian Center\, 1655 NW Monroe Ave\, Corvallis\, Oregon\, 97330\, United States
END:VEVENT
END:VCALENDAR