BEGIN:VCALENDAR
VERSION:2.0
PRODID:-//OSUCC - ECPv6.15.20//NONSGML v1.0//EN
CALSCALE:GREGORIAN
METHOD:PUBLISH
X-ORIGINAL-URL:https://www.osucc.com
X-WR-CALDESC:Events for OSUCC
REFRESH-INTERVAL;VALUE=DURATION:PT1H
X-Robots-Tag:noindex
X-PUBLISHED-TTL:PT1H
BEGIN:VTIMEZONE
TZID:America/Los_Angeles
BEGIN:DAYLIGHT
TZOFFSETFROM:-0800
TZOFFSETTO:-0700
TZNAME:PDT
DTSTART:20250309T100000
END:DAYLIGHT
BEGIN:STANDARD
TZOFFSETFROM:-0700
TZOFFSETTO:-0800
TZNAME:PST
DTSTART:20251102T090000
END:STANDARD
BEGIN:DAYLIGHT
TZOFFSETFROM:-0800
TZOFFSETTO:-0700
TZNAME:PDT
DTSTART:20260308T100000
END:DAYLIGHT
BEGIN:STANDARD
TZOFFSETFROM:-0700
TZOFFSETTO:-0800
TZNAME:PST
DTSTART:20261101T090000
END:STANDARD
BEGIN:DAYLIGHT
TZOFFSETFROM:-0800
TZOFFSETTO:-0700
TZNAME:PDT
DTSTART:20270314T100000
END:DAYLIGHT
BEGIN:STANDARD
TZOFFSETFROM:-0700
TZOFFSETTO:-0800
TZNAME:PST
DTSTART:20271107T090000
END:STANDARD
END:VTIMEZONE
BEGIN:VEVENT
DTSTART;TZID=America/Los_Angeles:20260426T103000
DTEND;TZID=America/Los_Angeles:20260426T120000
DTSTAMP:20260423T064806
CREATED:20251019T210617Z
LAST-MODIFIED:20251019T231042Z
UID:10000219-1777199400-1777204800@www.osucc.com
SUMMARY:Sunday Morning Church
DESCRIPTION:
URL:https://www.osucc.com/event/sunday-morning-church/2026-04-26/
LOCATION:Circle Church of Christ\, 2020 NW Circle Blvd\, Corvallis\, OR\, 97330\, United States
CATEGORIES:Bible Study,Circle Church of Christ
END:VEVENT
BEGIN:VEVENT
DTSTART;TZID=America/Los_Angeles:20260428T183000
DTEND;TZID=America/Los_Angeles:20260428T200000
DTSTAMP:20260423T064806
CREATED:20260321T204725Z
LAST-MODIFIED:20260321T204725Z
UID:10000553-1777401000-1777406400@www.osucc.com
SUMMARY:Tuesday Night Bible Study
DESCRIPTION:
URL:https://www.osucc.com/event/tuesday-night-bible-study-7/
LOCATION:University Christian Center\, 1655 NW Monroe Ave\, Corvallis\, Oregon\, 97330\, United States
CATEGORIES:Bible Study
ORGANIZER;CN="Joshua Stutzman":MAILTO:stutzman.joshua@gmail.com
END:VEVENT
BEGIN:VEVENT
DTSTART;TZID=America/Los_Angeles:20260503T103000
DTEND;TZID=America/Los_Angeles:20260503T120000
DTSTAMP:20260423T064806
CREATED:20251019T210617Z
LAST-MODIFIED:20251019T231042Z
UID:10000220-1777804200-1777809600@www.osucc.com
SUMMARY:Sunday Morning Church
DESCRIPTION:
URL:https://www.osucc.com/event/sunday-morning-church/2026-05-03/
LOCATION:Circle Church of Christ\, 2020 NW Circle Blvd\, Corvallis\, OR\, 97330\, United States
CATEGORIES:Bible Study,Circle Church of Christ
END:VEVENT
BEGIN:VEVENT
DTSTART;TZID=America/Los_Angeles:20260505T183000
DTEND;TZID=America/Los_Angeles:20260505T200000
DTSTAMP:20260423T064806
CREATED:20260321T204628Z
LAST-MODIFIED:20260321T204628Z
UID:10000552-1778005800-1778011200@www.osucc.com
SUMMARY:Tuesday Night Bible Study
DESCRIPTION:
URL:https://www.osucc.com/event/tuesday-night-bible-study-6/
LOCATION:University Christian Center\, 1655 NW Monroe Ave\, Corvallis\, Oregon\, 97330\, United States
CATEGORIES:Bible Study
ORGANIZER;CN="Joshua Stutzman":MAILTO:stutzman.joshua@gmail.com
END:VEVENT
BEGIN:VEVENT
DTSTART;TZID=America/Los_Angeles:20260510T103000
DTEND;TZID=America/Los_Angeles:20260510T120000
DTSTAMP:20260423T064806
CREATED:20251019T210617Z
LAST-MODIFIED:20251019T231042Z
UID:10000221-1778409000-1778414400@www.osucc.com
SUMMARY:Sunday Morning Church
DESCRIPTION:
URL:https://www.osucc.com/event/sunday-morning-church/2026-05-10/
LOCATION:Circle Church of Christ\, 2020 NW Circle Blvd\, Corvallis\, OR\, 97330\, United States
CATEGORIES:Bible Study,Circle Church of Christ
END:VEVENT
BEGIN:VEVENT
DTSTART;TZID=America/Los_Angeles:20260512T183000
DTEND;TZID=America/Los_Angeles:20260512T200000
DTSTAMP:20260423T064806
CREATED:20260321T204528Z
LAST-MODIFIED:20260321T204528Z
UID:10000551-1778610600-1778616000@www.osucc.com
SUMMARY:Tuesday Night Bible Study
DESCRIPTION:
URL:https://www.osucc.com/event/tuesday-night-bible-study-5/
LOCATION:University Christian Center\, 1655 NW Monroe Ave\, Corvallis\, Oregon\, 97330\, United States
CATEGORIES:Bible Study
ORGANIZER;CN="Joshua Stutzman":MAILTO:stutzman.joshua@gmail.com
END:VEVENT
BEGIN:VEVENT
DTSTART;TZID=America/Los_Angeles:20260517T103000
DTEND;TZID=America/Los_Angeles:20260517T120000
DTSTAMP:20260423T064806
CREATED:20251019T210617Z
LAST-MODIFIED:20251019T231042Z
UID:10000222-1779013800-1779019200@www.osucc.com
SUMMARY:Sunday Morning Church
DESCRIPTION:
URL:https://www.osucc.com/event/sunday-morning-church/2026-05-17/
LOCATION:Circle Church of Christ\, 2020 NW Circle Blvd\, Corvallis\, OR\, 97330\, United States
CATEGORIES:Bible Study,Circle Church of Christ
END:VEVENT
BEGIN:VEVENT
DTSTART;TZID=America/Los_Angeles:20260519T183000
DTEND;TZID=America/Los_Angeles:20260519T200000
DTSTAMP:20260423T064806
CREATED:20260321T204354Z
LAST-MODIFIED:20260321T204354Z
UID:10000550-1779215400-1779220800@www.osucc.com
SUMMARY:Tuesday Night Bible Study
DESCRIPTION:
URL:https://www.osucc.com/event/tuesday-night-bible-study-4/
LOCATION:University Christian Center\, 1655 NW Monroe Ave\, Corvallis\, Oregon\, 97330\, United States
CATEGORIES:Bible Study
ORGANIZER;CN="Joshua Stutzman":MAILTO:stutzman.joshua@gmail.com
END:VEVENT
BEGIN:VEVENT
DTSTART;TZID=America/Los_Angeles:20260524T103000
DTEND;TZID=America/Los_Angeles:20260524T120000
DTSTAMP:20260423T064806
CREATED:20251019T210617Z
LAST-MODIFIED:20251019T231042Z
UID:10000223-1779618600-1779624000@www.osucc.com
SUMMARY:Sunday Morning Church
DESCRIPTION:
URL:https://www.osucc.com/event/sunday-morning-church/2026-05-24/
LOCATION:Circle Church of Christ\, 2020 NW Circle Blvd\, Corvallis\, OR\, 97330\, United States
CATEGORIES:Bible Study,Circle Church of Christ
END:VEVENT
BEGIN:VEVENT
DTSTART;TZID=America/Los_Angeles:20260526T183000
DTEND;TZID=America/Los_Angeles:20260526T200000
DTSTAMP:20260423T064806
CREATED:20260321T204243Z
LAST-MODIFIED:20260321T204243Z
UID:10000549-1779820200-1779825600@www.osucc.com
SUMMARY:Tuesday Night Bible Study
DESCRIPTION:
URL:https://www.osucc.com/event/tuesday-night-bible-study-3/
LOCATION:University Christian Center\, 1655 NW Monroe Ave\, Corvallis\, Oregon\, 97330\, United States
CATEGORIES:Bible Study
ORGANIZER;CN="Joshua Stutzman":MAILTO:stutzman.joshua@gmail.com
END:VEVENT
BEGIN:VEVENT
DTSTART;TZID=America/Los_Angeles:20260531T103000
DTEND;TZID=America/Los_Angeles:20260531T120000
DTSTAMP:20260423T064806
CREATED:20251019T210617Z
LAST-MODIFIED:20251019T231042Z
UID:10000224-1780223400-1780228800@www.osucc.com
SUMMARY:Sunday Morning Church
DESCRIPTION:
URL:https://www.osucc.com/event/sunday-morning-church/2026-05-31/
LOCATION:Circle Church of Christ\, 2020 NW Circle Blvd\, Corvallis\, OR\, 97330\, United States
CATEGORIES:Bible Study,Circle Church of Christ
END:VEVENT
BEGIN:VEVENT
DTSTART;TZID=America/Los_Angeles:20260602T183000
DTEND;TZID=America/Los_Angeles:20260602T200000
DTSTAMP:20260423T064806
CREATED:20260321T204134Z
LAST-MODIFIED:20260321T204134Z
UID:10000548-1780425000-1780430400@www.osucc.com
SUMMARY:Tuesday Night Bible Study
DESCRIPTION:
URL:https://www.osucc.com/event/tuesday-night-bible-study-2/
LOCATION:University Christian Center\, 1655 NW Monroe Ave\, Corvallis\, Oregon\, 97330\, United States
CATEGORIES:Bible Study
ORGANIZER;CN="Joshua Stutzman":MAILTO:stutzman.joshua@gmail.com
END:VEVENT
BEGIN:VEVENT
DTSTART;TZID=America/Los_Angeles:20260607T103000
DTEND;TZID=America/Los_Angeles:20260607T120000
DTSTAMP:20260423T064806
CREATED:20251019T210617Z
LAST-MODIFIED:20251019T231042Z
UID:10000225-1780828200-1780833600@www.osucc.com
SUMMARY:Sunday Morning Church
DESCRIPTION:
URL:https://www.osucc.com/event/sunday-morning-church/2026-06-07/
LOCATION:Circle Church of Christ\, 2020 NW Circle Blvd\, Corvallis\, OR\, 97330\, United States
CATEGORIES:Bible Study,Circle Church of Christ
END:VEVENT
BEGIN:VEVENT
DTSTART;TZID=America/Los_Angeles:20260609T183000
DTEND;TZID=America/Los_Angeles:20260609T200000
DTSTAMP:20260423T064806
CREATED:20260321T203759Z
LAST-MODIFIED:20260321T203759Z
UID:10000547-1781029800-1781035200@www.osucc.com
SUMMARY:Tuesday Night Bible Study
DESCRIPTION:
URL:https://www.osucc.com/event/tuesday-night-bible-study/
LOCATION:University Christian Center\, 1655 NW Monroe Ave\, Corvallis\, Oregon\, 97330\, United States
CATEGORIES:Bible Study
ORGANIZER;CN="Joshua Stutzman":MAILTO:stutzman.joshua@gmail.com
END:VEVENT
BEGIN:VEVENT
DTSTART;TZID=America/Los_Angeles:20260614T103000
DTEND;TZID=America/Los_Angeles:20260614T120000
DTSTAMP:20260423T064806
CREATED:20251019T210617Z
LAST-MODIFIED:20251019T231042Z
UID:10000226-1781433000-1781438400@www.osucc.com
SUMMARY:Sunday Morning Church
DESCRIPTION:
URL:https://www.osucc.com/event/sunday-morning-church/2026-06-14/
LOCATION:Circle Church of Christ\, 2020 NW Circle Blvd\, Corvallis\, OR\, 97330\, United States
CATEGORIES:Bible Study,Circle Church of Christ
END:VEVENT
BEGIN:VEVENT
DTSTART;TZID=America/Los_Angeles:20260621T103000
DTEND;TZID=America/Los_Angeles:20260621T120000
DTSTAMP:20260423T064806
CREATED:20251019T210617Z
LAST-MODIFIED:20251019T231042Z
UID:10000227-1782037800-1782043200@www.osucc.com
SUMMARY:Sunday Morning Church
DESCRIPTION:
URL:https://www.osucc.com/event/sunday-morning-church/2026-06-21/
LOCATION:Circle Church of Christ\, 2020 NW Circle Blvd\, Corvallis\, OR\, 97330\, United States
CATEGORIES:Bible Study,Circle Church of Christ
END:VEVENT
BEGIN:VEVENT
DTSTART;TZID=America/Los_Angeles:20260628T103000
DTEND;TZID=America/Los_Angeles:20260628T120000
DTSTAMP:20260423T064806
CREATED:20251019T210617Z
LAST-MODIFIED:20251019T231042Z
UID:10000228-1782642600-1782648000@www.osucc.com
SUMMARY:Sunday Morning Church
DESCRIPTION:
URL:https://www.osucc.com/event/sunday-morning-church/2026-06-28/
LOCATION:Circle Church of Christ\, 2020 NW Circle Blvd\, Corvallis\, OR\, 97330\, United States
CATEGORIES:Bible Study,Circle Church of Christ
END:VEVENT
BEGIN:VEVENT
DTSTART;TZID=America/Los_Angeles:20260705T103000
DTEND;TZID=America/Los_Angeles:20260705T120000
DTSTAMP:20260423T064806
CREATED:20251019T210617Z
LAST-MODIFIED:20251019T231042Z
UID:10000229-1783247400-1783252800@www.osucc.com
SUMMARY:Sunday Morning Church
DESCRIPTION:
URL:https://www.osucc.com/event/sunday-morning-church/2026-07-05/
LOCATION:Circle Church of Christ\, 2020 NW Circle Blvd\, Corvallis\, OR\, 97330\, United States
CATEGORIES:Bible Study,Circle Church of Christ
END:VEVENT
BEGIN:VEVENT
DTSTART;TZID=America/Los_Angeles:20260712T103000
DTEND;TZID=America/Los_Angeles:20260712T120000
DTSTAMP:20260423T064806
CREATED:20251019T210617Z
LAST-MODIFIED:20251019T231042Z
UID:10000230-1783852200-1783857600@www.osucc.com
SUMMARY:Sunday Morning Church
DESCRIPTION:
URL:https://www.osucc.com/event/sunday-morning-church/2026-07-12/
LOCATION:Circle Church of Christ\, 2020 NW Circle Blvd\, Corvallis\, OR\, 97330\, United States
CATEGORIES:Bible Study,Circle Church of Christ
END:VEVENT
BEGIN:VEVENT
DTSTART;TZID=America/Los_Angeles:20260719T103000
DTEND;TZID=America/Los_Angeles:20260719T120000
DTSTAMP:20260423T064806
CREATED:20251019T210617Z
LAST-MODIFIED:20251019T231042Z
UID:10000231-1784457000-1784462400@www.osucc.com
SUMMARY:Sunday Morning Church
DESCRIPTION:
URL:https://www.osucc.com/event/sunday-morning-church/2026-07-19/
LOCATION:Circle Church of Christ\, 2020 NW Circle Blvd\, Corvallis\, OR\, 97330\, United States
CATEGORIES:Bible Study,Circle Church of Christ
END:VEVENT
BEGIN:VEVENT
DTSTART;TZID=America/Los_Angeles:20260726T103000
DTEND;TZID=America/Los_Angeles:20260726T120000
DTSTAMP:20260423T064806
CREATED:20251019T210617Z
LAST-MODIFIED:20251019T231042Z
UID:10000232-1785061800-1785067200@www.osucc.com
SUMMARY:Sunday Morning Church
DESCRIPTION:
URL:https://www.osucc.com/event/sunday-morning-church/2026-07-26/
LOCATION:Circle Church of Christ\, 2020 NW Circle Blvd\, Corvallis\, OR\, 97330\, United States
CATEGORIES:Bible Study,Circle Church of Christ
END:VEVENT
BEGIN:VEVENT
DTSTART;TZID=America/Los_Angeles:20260802T103000
DTEND;TZID=America/Los_Angeles:20260802T120000
DTSTAMP:20260423T064806
CREATED:20251019T210617Z
LAST-MODIFIED:20251019T231042Z
UID:10000233-1785666600-1785672000@www.osucc.com
SUMMARY:Sunday Morning Church
DESCRIPTION:
URL:https://www.osucc.com/event/sunday-morning-church/2026-08-02/
LOCATION:Circle Church of Christ\, 2020 NW Circle Blvd\, Corvallis\, OR\, 97330\, United States
CATEGORIES:Bible Study,Circle Church of Christ
END:VEVENT
BEGIN:VEVENT
DTSTART;TZID=America/Los_Angeles:20260809T103000
DTEND;TZID=America/Los_Angeles:20260809T120000
DTSTAMP:20260423T064806
CREATED:20251019T210617Z
LAST-MODIFIED:20251019T231042Z
UID:10000234-1786271400-1786276800@www.osucc.com
SUMMARY:Sunday Morning Church
DESCRIPTION:
URL:https://www.osucc.com/event/sunday-morning-church/2026-08-09/
LOCATION:Circle Church of Christ\, 2020 NW Circle Blvd\, Corvallis\, OR\, 97330\, United States
CATEGORIES:Bible Study,Circle Church of Christ
END:VEVENT
BEGIN:VEVENT
DTSTART;TZID=America/Los_Angeles:20260816T103000
DTEND;TZID=America/Los_Angeles:20260816T120000
DTSTAMP:20260423T064806
CREATED:20251019T210617Z
LAST-MODIFIED:20251019T231042Z
UID:10000235-1786876200-1786881600@www.osucc.com
SUMMARY:Sunday Morning Church
DESCRIPTION:
URL:https://www.osucc.com/event/sunday-morning-church/2026-08-16/
LOCATION:Circle Church of Christ\, 2020 NW Circle Blvd\, Corvallis\, OR\, 97330\, United States
CATEGORIES:Bible Study,Circle Church of Christ
END:VEVENT
BEGIN:VEVENT
DTSTART;TZID=America/Los_Angeles:20260823T103000
DTEND;TZID=America/Los_Angeles:20260823T120000
DTSTAMP:20260423T064807
CREATED:20251019T210617Z
LAST-MODIFIED:20251019T231042Z
UID:10000236-1787481000-1787486400@www.osucc.com
SUMMARY:Sunday Morning Church
DESCRIPTION:
URL:https://www.osucc.com/event/sunday-morning-church/2026-08-23/
LOCATION:Circle Church of Christ\, 2020 NW Circle Blvd\, Corvallis\, OR\, 97330\, United States
CATEGORIES:Bible Study,Circle Church of Christ
END:VEVENT
BEGIN:VEVENT
DTSTART;TZID=America/Los_Angeles:20260830T103000
DTEND;TZID=America/Los_Angeles:20260830T120000
DTSTAMP:20260423T064807
CREATED:20251019T210617Z
LAST-MODIFIED:20251019T231042Z
UID:10000237-1788085800-1788091200@www.osucc.com
SUMMARY:Sunday Morning Church
DESCRIPTION:
URL:https://www.osucc.com/event/sunday-morning-church/2026-08-30/
LOCATION:Circle Church of Christ\, 2020 NW Circle Blvd\, Corvallis\, OR\, 97330\, United States
CATEGORIES:Bible Study,Circle Church of Christ
END:VEVENT
BEGIN:VEVENT
DTSTART;TZID=America/Los_Angeles:20260906T103000
DTEND;TZID=America/Los_Angeles:20260906T120000
DTSTAMP:20260423T064807
CREATED:20251019T210617Z
LAST-MODIFIED:20251019T231042Z
UID:10000238-1788690600-1788696000@www.osucc.com
SUMMARY:Sunday Morning Church
DESCRIPTION:
URL:https://www.osucc.com/event/sunday-morning-church/2026-09-06/
LOCATION:Circle Church of Christ\, 2020 NW Circle Blvd\, Corvallis\, OR\, 97330\, United States
CATEGORIES:Bible Study,Circle Church of Christ
END:VEVENT
BEGIN:VEVENT
DTSTART;TZID=America/Los_Angeles:20260913T103000
DTEND;TZID=America/Los_Angeles:20260913T120000
DTSTAMP:20260423T064807
CREATED:20251019T210617Z
LAST-MODIFIED:20251019T231042Z
UID:10000239-1789295400-1789300800@www.osucc.com
SUMMARY:Sunday Morning Church
DESCRIPTION:
URL:https://www.osucc.com/event/sunday-morning-church/2026-09-13/
LOCATION:Circle Church of Christ\, 2020 NW Circle Blvd\, Corvallis\, OR\, 97330\, United States
CATEGORIES:Bible Study,Circle Church of Christ
END:VEVENT
BEGIN:VEVENT
DTSTART;TZID=America/Los_Angeles:20260920T103000
DTEND;TZID=America/Los_Angeles:20260920T120000
DTSTAMP:20260423T064807
CREATED:20251019T210617Z
LAST-MODIFIED:20251019T231042Z
UID:10000240-1789900200-1789905600@www.osucc.com
SUMMARY:Sunday Morning Church
DESCRIPTION:
URL:https://www.osucc.com/event/sunday-morning-church/2026-09-20/
LOCATION:Circle Church of Christ\, 2020 NW Circle Blvd\, Corvallis\, OR\, 97330\, United States
CATEGORIES:Bible Study,Circle Church of Christ
END:VEVENT
BEGIN:VEVENT
DTSTART;TZID=America/Los_Angeles:20260927T103000
DTEND;TZID=America/Los_Angeles:20260927T120000
DTSTAMP:20260423T064807
CREATED:20251019T210617Z
LAST-MODIFIED:20251019T231042Z
UID:10000241-1790505000-1790510400@www.osucc.com
SUMMARY:Sunday Morning Church
DESCRIPTION:
URL:https://www.osucc.com/event/sunday-morning-church/2026-09-27/
LOCATION:Circle Church of Christ\, 2020 NW Circle Blvd\, Corvallis\, OR\, 97330\, United States
CATEGORIES:Bible Study,Circle Church of Christ
END:VEVENT
END:VCALENDAR