BEGIN:VCALENDAR
VERSION:2.0
PRODID:-//OSUCC - ECPv6.15.20//NONSGML v1.0//EN
CALSCALE:GREGORIAN
METHOD:PUBLISH
X-WR-CALNAME:OSUCC
X-ORIGINAL-URL:https://www.osucc.com
X-WR-CALDESC:Events for OSUCC
REFRESH-INTERVAL;VALUE=DURATION:PT1H
X-Robots-Tag:noindex
X-PUBLISHED-TTL:PT1H
BEGIN:VTIMEZONE
TZID:America/Los_Angeles
BEGIN:DAYLIGHT
TZOFFSETFROM:-0800
TZOFFSETTO:-0700
TZNAME:PDT
DTSTART:20270314T100000
END:DAYLIGHT
BEGIN:STANDARD
TZOFFSETFROM:-0700
TZOFFSETTO:-0800
TZNAME:PST
DTSTART:20271107T090000
END:STANDARD
BEGIN:DAYLIGHT
TZOFFSETFROM:-0800
TZOFFSETTO:-0700
TZNAME:PDT
DTSTART:20280312T100000
END:DAYLIGHT
BEGIN:STANDARD
TZOFFSETFROM:-0700
TZOFFSETTO:-0800
TZNAME:PST
DTSTART:20281105T090000
END:STANDARD
BEGIN:DAYLIGHT
TZOFFSETFROM:-0800
TZOFFSETTO:-0700
TZNAME:PDT
DTSTART:20290311T100000
END:DAYLIGHT
BEGIN:STANDARD
TZOFFSETFROM:-0700
TZOFFSETTO:-0800
TZNAME:PST
DTSTART:20291104T090000
END:STANDARD
BEGIN:DAYLIGHT
TZOFFSETFROM:-0800
TZOFFSETTO:-0700
TZNAME:PDT
DTSTART:20300310T100000
END:DAYLIGHT
BEGIN:STANDARD
TZOFFSETFROM:-0700
TZOFFSETTO:-0800
TZNAME:PST
DTSTART:20301103T090000
END:STANDARD
END:VTIMEZONE
BEGIN:VEVENT
DTSTART;TZID=America/Los_Angeles:20281210T103000
DTEND;TZID=America/Los_Angeles:20281210T120000
DTSTAMP:20260425T185016
CREATED:20251019T210617Z
LAST-MODIFIED:20251019T231042Z
UID:10000356-1860057000-1860062400@www.osucc.com
SUMMARY:Sunday Morning Church
DESCRIPTION:
URL:https://www.osucc.com/event/sunday-morning-church/2028-12-10/
LOCATION:Circle Church of Christ\, 2020 NW Circle Blvd\, Corvallis\, OR\, 97330\, United States
CATEGORIES:Bible Study,Circle Church of Christ
END:VEVENT
BEGIN:VEVENT
DTSTART;TZID=America/Los_Angeles:20281217T103000
DTEND;TZID=America/Los_Angeles:20281217T120000
DTSTAMP:20260425T185016
CREATED:20251019T210617Z
LAST-MODIFIED:20251019T231042Z
UID:10000357-1860661800-1860667200@www.osucc.com
SUMMARY:Sunday Morning Church
DESCRIPTION:
URL:https://www.osucc.com/event/sunday-morning-church/2028-12-17/
LOCATION:Circle Church of Christ\, 2020 NW Circle Blvd\, Corvallis\, OR\, 97330\, United States
CATEGORIES:Bible Study,Circle Church of Christ
END:VEVENT
BEGIN:VEVENT
DTSTART;TZID=America/Los_Angeles:20281224T103000
DTEND;TZID=America/Los_Angeles:20281224T120000
DTSTAMP:20260425T185016
CREATED:20251019T210617Z
LAST-MODIFIED:20251019T231042Z
UID:10000358-1861266600-1861272000@www.osucc.com
SUMMARY:Sunday Morning Church
DESCRIPTION:
URL:https://www.osucc.com/event/sunday-morning-church/2028-12-24/
LOCATION:Circle Church of Christ\, 2020 NW Circle Blvd\, Corvallis\, OR\, 97330\, United States
CATEGORIES:Bible Study,Circle Church of Christ
END:VEVENT
BEGIN:VEVENT
DTSTART;TZID=America/Los_Angeles:20281231T103000
DTEND;TZID=America/Los_Angeles:20281231T120000
DTSTAMP:20260425T185016
CREATED:20251019T210617Z
LAST-MODIFIED:20251019T231042Z
UID:10000359-1861871400-1861876800@www.osucc.com
SUMMARY:Sunday Morning Church
DESCRIPTION:
URL:https://www.osucc.com/event/sunday-morning-church/2028-12-31/
LOCATION:Circle Church of Christ\, 2020 NW Circle Blvd\, Corvallis\, OR\, 97330\, United States
CATEGORIES:Bible Study,Circle Church of Christ
END:VEVENT
BEGIN:VEVENT
DTSTART;TZID=America/Los_Angeles:20290107T103000
DTEND;TZID=America/Los_Angeles:20290107T120000
DTSTAMP:20260425T185016
CREATED:20251019T210617Z
LAST-MODIFIED:20251019T231042Z
UID:10000360-1862476200-1862481600@www.osucc.com
SUMMARY:Sunday Morning Church
DESCRIPTION:
URL:https://www.osucc.com/event/sunday-morning-church/2029-01-07/
LOCATION:Circle Church of Christ\, 2020 NW Circle Blvd\, Corvallis\, OR\, 97330\, United States
CATEGORIES:Bible Study,Circle Church of Christ
END:VEVENT
BEGIN:VEVENT
DTSTART;TZID=America/Los_Angeles:20290114T103000
DTEND;TZID=America/Los_Angeles:20290114T120000
DTSTAMP:20260425T185016
CREATED:20251019T210617Z
LAST-MODIFIED:20251019T231042Z
UID:10000361-1863081000-1863086400@www.osucc.com
SUMMARY:Sunday Morning Church
DESCRIPTION:
URL:https://www.osucc.com/event/sunday-morning-church/2029-01-14/
LOCATION:Circle Church of Christ\, 2020 NW Circle Blvd\, Corvallis\, OR\, 97330\, United States
CATEGORIES:Bible Study,Circle Church of Christ
END:VEVENT
BEGIN:VEVENT
DTSTART;TZID=America/Los_Angeles:20290121T103000
DTEND;TZID=America/Los_Angeles:20290121T120000
DTSTAMP:20260425T185016
CREATED:20251019T210617Z
LAST-MODIFIED:20251019T231042Z
UID:10000362-1863685800-1863691200@www.osucc.com
SUMMARY:Sunday Morning Church
DESCRIPTION:
URL:https://www.osucc.com/event/sunday-morning-church/2029-01-21/
LOCATION:Circle Church of Christ\, 2020 NW Circle Blvd\, Corvallis\, OR\, 97330\, United States
CATEGORIES:Bible Study,Circle Church of Christ
END:VEVENT
BEGIN:VEVENT
DTSTART;TZID=America/Los_Angeles:20290128T103000
DTEND;TZID=America/Los_Angeles:20290128T120000
DTSTAMP:20260425T185016
CREATED:20251019T210617Z
LAST-MODIFIED:20251019T231042Z
UID:10000363-1864290600-1864296000@www.osucc.com
SUMMARY:Sunday Morning Church
DESCRIPTION:
URL:https://www.osucc.com/event/sunday-morning-church/2029-01-28/
LOCATION:Circle Church of Christ\, 2020 NW Circle Blvd\, Corvallis\, OR\, 97330\, United States
CATEGORIES:Bible Study,Circle Church of Christ
END:VEVENT
BEGIN:VEVENT
DTSTART;TZID=America/Los_Angeles:20290204T103000
DTEND;TZID=America/Los_Angeles:20290204T120000
DTSTAMP:20260425T185016
CREATED:20251019T210617Z
LAST-MODIFIED:20251019T231042Z
UID:10000364-1864895400-1864900800@www.osucc.com
SUMMARY:Sunday Morning Church
DESCRIPTION:
URL:https://www.osucc.com/event/sunday-morning-church/2029-02-04/
LOCATION:Circle Church of Christ\, 2020 NW Circle Blvd\, Corvallis\, OR\, 97330\, United States
CATEGORIES:Bible Study,Circle Church of Christ
END:VEVENT
BEGIN:VEVENT
DTSTART;TZID=America/Los_Angeles:20290211T103000
DTEND;TZID=America/Los_Angeles:20290211T120000
DTSTAMP:20260425T185016
CREATED:20251019T210617Z
LAST-MODIFIED:20251019T231042Z
UID:10000365-1865500200-1865505600@www.osucc.com
SUMMARY:Sunday Morning Church
DESCRIPTION:
URL:https://www.osucc.com/event/sunday-morning-church/2029-02-11/
LOCATION:Circle Church of Christ\, 2020 NW Circle Blvd\, Corvallis\, OR\, 97330\, United States
CATEGORIES:Bible Study,Circle Church of Christ
END:VEVENT
BEGIN:VEVENT
DTSTART;TZID=America/Los_Angeles:20290218T103000
DTEND;TZID=America/Los_Angeles:20290218T120000
DTSTAMP:20260425T185016
CREATED:20251019T210617Z
LAST-MODIFIED:20251019T231042Z
UID:10000366-1866105000-1866110400@www.osucc.com
SUMMARY:Sunday Morning Church
DESCRIPTION:
URL:https://www.osucc.com/event/sunday-morning-church/2029-02-18/
LOCATION:Circle Church of Christ\, 2020 NW Circle Blvd\, Corvallis\, OR\, 97330\, United States
CATEGORIES:Bible Study,Circle Church of Christ
END:VEVENT
BEGIN:VEVENT
DTSTART;TZID=America/Los_Angeles:20290225T103000
DTEND;TZID=America/Los_Angeles:20290225T120000
DTSTAMP:20260425T185016
CREATED:20251019T210617Z
LAST-MODIFIED:20251019T231042Z
UID:10000367-1866709800-1866715200@www.osucc.com
SUMMARY:Sunday Morning Church
DESCRIPTION:
URL:https://www.osucc.com/event/sunday-morning-church/2029-02-25/
LOCATION:Circle Church of Christ\, 2020 NW Circle Blvd\, Corvallis\, OR\, 97330\, United States
CATEGORIES:Bible Study,Circle Church of Christ
END:VEVENT
BEGIN:VEVENT
DTSTART;TZID=America/Los_Angeles:20290304T103000
DTEND;TZID=America/Los_Angeles:20290304T120000
DTSTAMP:20260425T185016
CREATED:20251019T210617Z
LAST-MODIFIED:20251019T231042Z
UID:10000368-1867314600-1867320000@www.osucc.com
SUMMARY:Sunday Morning Church
DESCRIPTION:
URL:https://www.osucc.com/event/sunday-morning-church/2029-03-04/
LOCATION:Circle Church of Christ\, 2020 NW Circle Blvd\, Corvallis\, OR\, 97330\, United States
CATEGORIES:Bible Study,Circle Church of Christ
END:VEVENT
BEGIN:VEVENT
DTSTART;TZID=America/Los_Angeles:20290311T103000
DTEND;TZID=America/Los_Angeles:20290311T120000
DTSTAMP:20260425T185016
CREATED:20251019T210617Z
LAST-MODIFIED:20251019T231042Z
UID:10000369-1867919400-1867924800@www.osucc.com
SUMMARY:Sunday Morning Church
DESCRIPTION:
URL:https://www.osucc.com/event/sunday-morning-church/2029-03-11/
LOCATION:Circle Church of Christ\, 2020 NW Circle Blvd\, Corvallis\, OR\, 97330\, United States
CATEGORIES:Bible Study,Circle Church of Christ
END:VEVENT
BEGIN:VEVENT
DTSTART;TZID=America/Los_Angeles:20290318T103000
DTEND;TZID=America/Los_Angeles:20290318T120000
DTSTAMP:20260425T185016
CREATED:20251019T210617Z
LAST-MODIFIED:20251019T231042Z
UID:10000370-1868524200-1868529600@www.osucc.com
SUMMARY:Sunday Morning Church
DESCRIPTION:
URL:https://www.osucc.com/event/sunday-morning-church/2029-03-18/
LOCATION:Circle Church of Christ\, 2020 NW Circle Blvd\, Corvallis\, OR\, 97330\, United States
CATEGORIES:Bible Study,Circle Church of Christ
END:VEVENT
BEGIN:VEVENT
DTSTART;TZID=America/Los_Angeles:20290325T103000
DTEND;TZID=America/Los_Angeles:20290325T120000
DTSTAMP:20260425T185016
CREATED:20251019T210617Z
LAST-MODIFIED:20251019T231042Z
UID:10000371-1869129000-1869134400@www.osucc.com
SUMMARY:Sunday Morning Church
DESCRIPTION:
URL:https://www.osucc.com/event/sunday-morning-church/2029-03-25/
LOCATION:Circle Church of Christ\, 2020 NW Circle Blvd\, Corvallis\, OR\, 97330\, United States
CATEGORIES:Bible Study,Circle Church of Christ
END:VEVENT
BEGIN:VEVENT
DTSTART;TZID=America/Los_Angeles:20290401T103000
DTEND;TZID=America/Los_Angeles:20290401T120000
DTSTAMP:20260425T185017
CREATED:20251019T210617Z
LAST-MODIFIED:20251019T231042Z
UID:10000372-1869733800-1869739200@www.osucc.com
SUMMARY:Sunday Morning Church
DESCRIPTION:
URL:https://www.osucc.com/event/sunday-morning-church/2029-04-01/
LOCATION:Circle Church of Christ\, 2020 NW Circle Blvd\, Corvallis\, OR\, 97330\, United States
CATEGORIES:Bible Study,Circle Church of Christ
END:VEVENT
BEGIN:VEVENT
DTSTART;TZID=America/Los_Angeles:20290408T103000
DTEND;TZID=America/Los_Angeles:20290408T120000
DTSTAMP:20260425T185017
CREATED:20251019T210617Z
LAST-MODIFIED:20251019T231042Z
UID:10000373-1870338600-1870344000@www.osucc.com
SUMMARY:Sunday Morning Church
DESCRIPTION:
URL:https://www.osucc.com/event/sunday-morning-church/2029-04-08/
LOCATION:Circle Church of Christ\, 2020 NW Circle Blvd\, Corvallis\, OR\, 97330\, United States
CATEGORIES:Bible Study,Circle Church of Christ
END:VEVENT
BEGIN:VEVENT
DTSTART;TZID=America/Los_Angeles:20290415T103000
DTEND;TZID=America/Los_Angeles:20290415T120000
DTSTAMP:20260425T185017
CREATED:20251019T210617Z
LAST-MODIFIED:20251019T231042Z
UID:10000374-1870943400-1870948800@www.osucc.com
SUMMARY:Sunday Morning Church
DESCRIPTION:
URL:https://www.osucc.com/event/sunday-morning-church/2029-04-15/
LOCATION:Circle Church of Christ\, 2020 NW Circle Blvd\, Corvallis\, OR\, 97330\, United States
CATEGORIES:Bible Study,Circle Church of Christ
END:VEVENT
BEGIN:VEVENT
DTSTART;TZID=America/Los_Angeles:20290422T103000
DTEND;TZID=America/Los_Angeles:20290422T120000
DTSTAMP:20260425T185017
CREATED:20251019T210617Z
LAST-MODIFIED:20251019T231042Z
UID:10000375-1871548200-1871553600@www.osucc.com
SUMMARY:Sunday Morning Church
DESCRIPTION:
URL:https://www.osucc.com/event/sunday-morning-church/2029-04-22/
LOCATION:Circle Church of Christ\, 2020 NW Circle Blvd\, Corvallis\, OR\, 97330\, United States
CATEGORIES:Bible Study,Circle Church of Christ
END:VEVENT
BEGIN:VEVENT
DTSTART;TZID=America/Los_Angeles:20290429T103000
DTEND;TZID=America/Los_Angeles:20290429T120000
DTSTAMP:20260425T185017
CREATED:20251019T210617Z
LAST-MODIFIED:20251019T231042Z
UID:10000376-1872153000-1872158400@www.osucc.com
SUMMARY:Sunday Morning Church
DESCRIPTION:
URL:https://www.osucc.com/event/sunday-morning-church/2029-04-29/
LOCATION:Circle Church of Christ\, 2020 NW Circle Blvd\, Corvallis\, OR\, 97330\, United States
CATEGORIES:Bible Study,Circle Church of Christ
END:VEVENT
BEGIN:VEVENT
DTSTART;TZID=America/Los_Angeles:20290506T103000
DTEND;TZID=America/Los_Angeles:20290506T120000
DTSTAMP:20260425T185017
CREATED:20251019T210617Z
LAST-MODIFIED:20251019T231042Z
UID:10000377-1872757800-1872763200@www.osucc.com
SUMMARY:Sunday Morning Church
DESCRIPTION:
URL:https://www.osucc.com/event/sunday-morning-church/2029-05-06/
LOCATION:Circle Church of Christ\, 2020 NW Circle Blvd\, Corvallis\, OR\, 97330\, United States
CATEGORIES:Bible Study,Circle Church of Christ
END:VEVENT
BEGIN:VEVENT
DTSTART;TZID=America/Los_Angeles:20290513T103000
DTEND;TZID=America/Los_Angeles:20290513T120000
DTSTAMP:20260425T185017
CREATED:20251019T210617Z
LAST-MODIFIED:20251019T231042Z
UID:10000378-1873362600-1873368000@www.osucc.com
SUMMARY:Sunday Morning Church
DESCRIPTION:
URL:https://www.osucc.com/event/sunday-morning-church/2029-05-13/
LOCATION:Circle Church of Christ\, 2020 NW Circle Blvd\, Corvallis\, OR\, 97330\, United States
CATEGORIES:Bible Study,Circle Church of Christ
END:VEVENT
BEGIN:VEVENT
DTSTART;TZID=America/Los_Angeles:20290520T103000
DTEND;TZID=America/Los_Angeles:20290520T120000
DTSTAMP:20260425T185017
CREATED:20251019T210617Z
LAST-MODIFIED:20251019T231042Z
UID:10000379-1873967400-1873972800@www.osucc.com
SUMMARY:Sunday Morning Church
DESCRIPTION:
URL:https://www.osucc.com/event/sunday-morning-church/2029-05-20/
LOCATION:Circle Church of Christ\, 2020 NW Circle Blvd\, Corvallis\, OR\, 97330\, United States
CATEGORIES:Bible Study,Circle Church of Christ
END:VEVENT
BEGIN:VEVENT
DTSTART;TZID=America/Los_Angeles:20290527T103000
DTEND;TZID=America/Los_Angeles:20290527T120000
DTSTAMP:20260425T185017
CREATED:20251019T210617Z
LAST-MODIFIED:20251019T231042Z
UID:10000380-1874572200-1874577600@www.osucc.com
SUMMARY:Sunday Morning Church
DESCRIPTION:
URL:https://www.osucc.com/event/sunday-morning-church/2029-05-27/
LOCATION:Circle Church of Christ\, 2020 NW Circle Blvd\, Corvallis\, OR\, 97330\, United States
CATEGORIES:Bible Study,Circle Church of Christ
END:VEVENT
BEGIN:VEVENT
DTSTART;TZID=America/Los_Angeles:20290603T103000
DTEND;TZID=America/Los_Angeles:20290603T120000
DTSTAMP:20260425T185017
CREATED:20251019T210617Z
LAST-MODIFIED:20251019T231042Z
UID:10000381-1875177000-1875182400@www.osucc.com
SUMMARY:Sunday Morning Church
DESCRIPTION:
URL:https://www.osucc.com/event/sunday-morning-church/2029-06-03/
LOCATION:Circle Church of Christ\, 2020 NW Circle Blvd\, Corvallis\, OR\, 97330\, United States
CATEGORIES:Bible Study,Circle Church of Christ
END:VEVENT
BEGIN:VEVENT
DTSTART;TZID=America/Los_Angeles:20290610T103000
DTEND;TZID=America/Los_Angeles:20290610T120000
DTSTAMP:20260425T185017
CREATED:20251019T210617Z
LAST-MODIFIED:20251019T231042Z
UID:10000382-1875781800-1875787200@www.osucc.com
SUMMARY:Sunday Morning Church
DESCRIPTION:
URL:https://www.osucc.com/event/sunday-morning-church/2029-06-10/
LOCATION:Circle Church of Christ\, 2020 NW Circle Blvd\, Corvallis\, OR\, 97330\, United States
CATEGORIES:Bible Study,Circle Church of Christ
END:VEVENT
BEGIN:VEVENT
DTSTART;TZID=America/Los_Angeles:20290617T103000
DTEND;TZID=America/Los_Angeles:20290617T120000
DTSTAMP:20260425T185017
CREATED:20251019T210617Z
LAST-MODIFIED:20251019T231042Z
UID:10000383-1876386600-1876392000@www.osucc.com
SUMMARY:Sunday Morning Church
DESCRIPTION:
URL:https://www.osucc.com/event/sunday-morning-church/2029-06-17/
LOCATION:Circle Church of Christ\, 2020 NW Circle Blvd\, Corvallis\, OR\, 97330\, United States
CATEGORIES:Bible Study,Circle Church of Christ
END:VEVENT
BEGIN:VEVENT
DTSTART;TZID=America/Los_Angeles:20290624T103000
DTEND;TZID=America/Los_Angeles:20290624T120000
DTSTAMP:20260425T185017
CREATED:20251019T210617Z
LAST-MODIFIED:20251019T231042Z
UID:10000384-1876991400-1876996800@www.osucc.com
SUMMARY:Sunday Morning Church
DESCRIPTION:
URL:https://www.osucc.com/event/sunday-morning-church/2029-06-24/
LOCATION:Circle Church of Christ\, 2020 NW Circle Blvd\, Corvallis\, OR\, 97330\, United States
CATEGORIES:Bible Study,Circle Church of Christ
END:VEVENT
BEGIN:VEVENT
DTSTART;TZID=America/Los_Angeles:20290701T103000
DTEND;TZID=America/Los_Angeles:20290701T120000
DTSTAMP:20260425T185017
CREATED:20251019T210617Z
LAST-MODIFIED:20251019T231042Z
UID:10000385-1877596200-1877601600@www.osucc.com
SUMMARY:Sunday Morning Church
DESCRIPTION:
URL:https://www.osucc.com/event/sunday-morning-church/2029-07-01/
LOCATION:Circle Church of Christ\, 2020 NW Circle Blvd\, Corvallis\, OR\, 97330\, United States
CATEGORIES:Bible Study,Circle Church of Christ
END:VEVENT
END:VCALENDAR