BEGIN:VCALENDAR
VERSION:2.0
PRODID:-//OSUCC - ECPv6.15.20//NONSGML v1.0//EN
CALSCALE:GREGORIAN
METHOD:PUBLISH
X-WR-CALNAME:OSUCC
X-ORIGINAL-URL:https://www.osucc.com
X-WR-CALDESC:Events for OSUCC
REFRESH-INTERVAL;VALUE=DURATION:PT1H
X-Robots-Tag:noindex
X-PUBLISHED-TTL:PT1H
BEGIN:VTIMEZONE
TZID:America/Los_Angeles
BEGIN:DAYLIGHT
TZOFFSETFROM:-0800
TZOFFSETTO:-0700
TZNAME:PDT
DTSTART:20250309T100000
END:DAYLIGHT
BEGIN:STANDARD
TZOFFSETFROM:-0700
TZOFFSETTO:-0800
TZNAME:PST
DTSTART:20251102T090000
END:STANDARD
BEGIN:DAYLIGHT
TZOFFSETFROM:-0800
TZOFFSETTO:-0700
TZNAME:PDT
DTSTART:20260308T100000
END:DAYLIGHT
BEGIN:STANDARD
TZOFFSETFROM:-0700
TZOFFSETTO:-0800
TZNAME:PST
DTSTART:20261101T090000
END:STANDARD
BEGIN:DAYLIGHT
TZOFFSETFROM:-0800
TZOFFSETTO:-0700
TZNAME:PDT
DTSTART:20270314T100000
END:DAYLIGHT
BEGIN:STANDARD
TZOFFSETFROM:-0700
TZOFFSETTO:-0800
TZNAME:PST
DTSTART:20271107T090000
END:STANDARD
END:VTIMEZONE
BEGIN:VEVENT
DTSTART;TZID=America/Los_Angeles:20260801T180000
DTEND;TZID=America/Los_Angeles:20260801T200000
DTSTAMP:20260425T094905
CREATED:20251019T210314Z
LAST-MODIFIED:20251019T221519Z
UID:10000174-1785607200-1785614400@www.osucc.com
SUMMARY:Saturday Night Sports
DESCRIPTION:Check Instagram for Location and Sports!!
URL:https://www.osucc.com/event/saturday-night-sports/2026-08-01/
LOCATION:Oregon
CATEGORIES:Sports
END:VEVENT
BEGIN:VEVENT
DTSTART;TZID=America/Los_Angeles:20260802T103000
DTEND;TZID=America/Los_Angeles:20260802T120000
DTSTAMP:20260425T094905
CREATED:20251019T210617Z
LAST-MODIFIED:20251019T231042Z
UID:10000233-1785666600-1785672000@www.osucc.com
SUMMARY:Sunday Morning Church
DESCRIPTION:
URL:https://www.osucc.com/event/sunday-morning-church/2026-08-02/
LOCATION:Circle Church of Christ\, 2020 NW Circle Blvd\, Corvallis\, OR\, 97330\, United States
CATEGORIES:Bible Study,Circle Church of Christ
END:VEVENT
BEGIN:VEVENT
DTSTART;TZID=America/Los_Angeles:20260804T130000
DTEND;TZID=America/Los_Angeles:20260804T180000
DTSTAMP:20260425T094905
CREATED:20251019T214200Z
LAST-MODIFIED:20251019T214200Z
UID:10000498-1785848400-1785866400@www.osucc.com
SUMMARY:Tuesday Coffee
DESCRIPTION:
URL:https://www.osucc.com/event/tuesday-coffee/2026-08-04/
LOCATION:University Christian Center\, 1655 NW Monroe Ave\, Corvallis\, Oregon\, 97330\, United States
END:VEVENT
BEGIN:VEVENT
DTSTART;TZID=America/Los_Angeles:20260808T180000
DTEND;TZID=America/Los_Angeles:20260808T200000
DTSTAMP:20260425T094905
CREATED:20251019T210314Z
LAST-MODIFIED:20251019T221519Z
UID:10000175-1786212000-1786219200@www.osucc.com
SUMMARY:Saturday Night Sports
DESCRIPTION:Check Instagram for Location and Sports!!
URL:https://www.osucc.com/event/saturday-night-sports/2026-08-08/
LOCATION:Oregon
CATEGORIES:Sports
END:VEVENT
BEGIN:VEVENT
DTSTART;TZID=America/Los_Angeles:20260809T103000
DTEND;TZID=America/Los_Angeles:20260809T120000
DTSTAMP:20260425T094905
CREATED:20251019T210617Z
LAST-MODIFIED:20251019T231042Z
UID:10000234-1786271400-1786276800@www.osucc.com
SUMMARY:Sunday Morning Church
DESCRIPTION:
URL:https://www.osucc.com/event/sunday-morning-church/2026-08-09/
LOCATION:Circle Church of Christ\, 2020 NW Circle Blvd\, Corvallis\, OR\, 97330\, United States
CATEGORIES:Bible Study,Circle Church of Christ
END:VEVENT
BEGIN:VEVENT
DTSTART;TZID=America/Los_Angeles:20260811T130000
DTEND;TZID=America/Los_Angeles:20260811T180000
DTSTAMP:20260425T094905
CREATED:20251019T214200Z
LAST-MODIFIED:20251019T214200Z
UID:10000499-1786453200-1786471200@www.osucc.com
SUMMARY:Tuesday Coffee
DESCRIPTION:
URL:https://www.osucc.com/event/tuesday-coffee/2026-08-11/
LOCATION:University Christian Center\, 1655 NW Monroe Ave\, Corvallis\, Oregon\, 97330\, United States
END:VEVENT
BEGIN:VEVENT
DTSTART;TZID=America/Los_Angeles:20260815T180000
DTEND;TZID=America/Los_Angeles:20260815T200000
DTSTAMP:20260425T094906
CREATED:20251019T210314Z
LAST-MODIFIED:20251019T221519Z
UID:10000176-1786816800-1786824000@www.osucc.com
SUMMARY:Saturday Night Sports
DESCRIPTION:Check Instagram for Location and Sports!!
URL:https://www.osucc.com/event/saturday-night-sports/2026-08-15/
LOCATION:Oregon
CATEGORIES:Sports
END:VEVENT
BEGIN:VEVENT
DTSTART;TZID=America/Los_Angeles:20260816T103000
DTEND;TZID=America/Los_Angeles:20260816T120000
DTSTAMP:20260425T094906
CREATED:20251019T210617Z
LAST-MODIFIED:20251019T231042Z
UID:10000235-1786876200-1786881600@www.osucc.com
SUMMARY:Sunday Morning Church
DESCRIPTION:
URL:https://www.osucc.com/event/sunday-morning-church/2026-08-16/
LOCATION:Circle Church of Christ\, 2020 NW Circle Blvd\, Corvallis\, OR\, 97330\, United States
CATEGORIES:Bible Study,Circle Church of Christ
END:VEVENT
BEGIN:VEVENT
DTSTART;TZID=America/Los_Angeles:20260818T130000
DTEND;TZID=America/Los_Angeles:20260818T180000
DTSTAMP:20260425T094906
CREATED:20251019T214200Z
LAST-MODIFIED:20251019T214200Z
UID:10000500-1787058000-1787076000@www.osucc.com
SUMMARY:Tuesday Coffee
DESCRIPTION:
URL:https://www.osucc.com/event/tuesday-coffee/2026-08-18/
LOCATION:University Christian Center\, 1655 NW Monroe Ave\, Corvallis\, Oregon\, 97330\, United States
END:VEVENT
BEGIN:VEVENT
DTSTART;TZID=America/Los_Angeles:20260822T180000
DTEND;TZID=America/Los_Angeles:20260822T200000
DTSTAMP:20260425T094906
CREATED:20251019T210314Z
LAST-MODIFIED:20251019T221519Z
UID:10000177-1787421600-1787428800@www.osucc.com
SUMMARY:Saturday Night Sports
DESCRIPTION:Check Instagram for Location and Sports!!
URL:https://www.osucc.com/event/saturday-night-sports/2026-08-22/
LOCATION:Oregon
CATEGORIES:Sports
END:VEVENT
BEGIN:VEVENT
DTSTART;TZID=America/Los_Angeles:20260823T103000
DTEND;TZID=America/Los_Angeles:20260823T120000
DTSTAMP:20260425T094906
CREATED:20251019T210617Z
LAST-MODIFIED:20251019T231042Z
UID:10000236-1787481000-1787486400@www.osucc.com
SUMMARY:Sunday Morning Church
DESCRIPTION:
URL:https://www.osucc.com/event/sunday-morning-church/2026-08-23/
LOCATION:Circle Church of Christ\, 2020 NW Circle Blvd\, Corvallis\, OR\, 97330\, United States
CATEGORIES:Bible Study,Circle Church of Christ
END:VEVENT
BEGIN:VEVENT
DTSTART;TZID=America/Los_Angeles:20260825T130000
DTEND;TZID=America/Los_Angeles:20260825T180000
DTSTAMP:20260425T094906
CREATED:20251019T214200Z
LAST-MODIFIED:20251019T214200Z
UID:10000501-1787662800-1787680800@www.osucc.com
SUMMARY:Tuesday Coffee
DESCRIPTION:
URL:https://www.osucc.com/event/tuesday-coffee/2026-08-25/
LOCATION:University Christian Center\, 1655 NW Monroe Ave\, Corvallis\, Oregon\, 97330\, United States
END:VEVENT
BEGIN:VEVENT
DTSTART;TZID=America/Los_Angeles:20260829T180000
DTEND;TZID=America/Los_Angeles:20260829T200000
DTSTAMP:20260425T094906
CREATED:20251019T210314Z
LAST-MODIFIED:20251019T221519Z
UID:10000178-1788026400-1788033600@www.osucc.com
SUMMARY:Saturday Night Sports
DESCRIPTION:Check Instagram for Location and Sports!!
URL:https://www.osucc.com/event/saturday-night-sports/2026-08-29/
LOCATION:Oregon
CATEGORIES:Sports
END:VEVENT
BEGIN:VEVENT
DTSTART;TZID=America/Los_Angeles:20260830T103000
DTEND;TZID=America/Los_Angeles:20260830T120000
DTSTAMP:20260425T094906
CREATED:20251019T210617Z
LAST-MODIFIED:20251019T231042Z
UID:10000237-1788085800-1788091200@www.osucc.com
SUMMARY:Sunday Morning Church
DESCRIPTION:
URL:https://www.osucc.com/event/sunday-morning-church/2026-08-30/
LOCATION:Circle Church of Christ\, 2020 NW Circle Blvd\, Corvallis\, OR\, 97330\, United States
CATEGORIES:Bible Study,Circle Church of Christ
END:VEVENT
BEGIN:VEVENT
DTSTART;TZID=America/Los_Angeles:20260901T130000
DTEND;TZID=America/Los_Angeles:20260901T180000
DTSTAMP:20260425T094906
CREATED:20251019T214200Z
LAST-MODIFIED:20251019T214200Z
UID:10000502-1788267600-1788285600@www.osucc.com
SUMMARY:Tuesday Coffee
DESCRIPTION:
URL:https://www.osucc.com/event/tuesday-coffee/2026-09-01/
LOCATION:University Christian Center\, 1655 NW Monroe Ave\, Corvallis\, Oregon\, 97330\, United States
END:VEVENT
BEGIN:VEVENT
DTSTART;TZID=America/Los_Angeles:20260905T180000
DTEND;TZID=America/Los_Angeles:20260905T200000
DTSTAMP:20260425T094906
CREATED:20251019T210314Z
LAST-MODIFIED:20251019T221519Z
UID:10000179-1788631200-1788638400@www.osucc.com
SUMMARY:Saturday Night Sports
DESCRIPTION:Check Instagram for Location and Sports!!
URL:https://www.osucc.com/event/saturday-night-sports/2026-09-05/
LOCATION:Oregon
CATEGORIES:Sports
END:VEVENT
BEGIN:VEVENT
DTSTART;TZID=America/Los_Angeles:20260906T103000
DTEND;TZID=America/Los_Angeles:20260906T120000
DTSTAMP:20260425T094906
CREATED:20251019T210617Z
LAST-MODIFIED:20251019T231042Z
UID:10000238-1788690600-1788696000@www.osucc.com
SUMMARY:Sunday Morning Church
DESCRIPTION:
URL:https://www.osucc.com/event/sunday-morning-church/2026-09-06/
LOCATION:Circle Church of Christ\, 2020 NW Circle Blvd\, Corvallis\, OR\, 97330\, United States
CATEGORIES:Bible Study,Circle Church of Christ
END:VEVENT
BEGIN:VEVENT
DTSTART;TZID=America/Los_Angeles:20260908T130000
DTEND;TZID=America/Los_Angeles:20260908T180000
DTSTAMP:20260425T094906
CREATED:20251019T214200Z
LAST-MODIFIED:20251019T214200Z
UID:10000503-1788872400-1788890400@www.osucc.com
SUMMARY:Tuesday Coffee
DESCRIPTION:
URL:https://www.osucc.com/event/tuesday-coffee/2026-09-08/
LOCATION:University Christian Center\, 1655 NW Monroe Ave\, Corvallis\, Oregon\, 97330\, United States
END:VEVENT
BEGIN:VEVENT
DTSTART;TZID=America/Los_Angeles:20260912T180000
DTEND;TZID=America/Los_Angeles:20260912T200000
DTSTAMP:20260425T094906
CREATED:20251019T210314Z
LAST-MODIFIED:20251019T221519Z
UID:10000180-1789236000-1789243200@www.osucc.com
SUMMARY:Saturday Night Sports
DESCRIPTION:Check Instagram for Location and Sports!!
URL:https://www.osucc.com/event/saturday-night-sports/2026-09-12/
LOCATION:Oregon
CATEGORIES:Sports
END:VEVENT
BEGIN:VEVENT
DTSTART;TZID=America/Los_Angeles:20260913T103000
DTEND;TZID=America/Los_Angeles:20260913T120000
DTSTAMP:20260425T094906
CREATED:20251019T210617Z
LAST-MODIFIED:20251019T231042Z
UID:10000239-1789295400-1789300800@www.osucc.com
SUMMARY:Sunday Morning Church
DESCRIPTION:
URL:https://www.osucc.com/event/sunday-morning-church/2026-09-13/
LOCATION:Circle Church of Christ\, 2020 NW Circle Blvd\, Corvallis\, OR\, 97330\, United States
CATEGORIES:Bible Study,Circle Church of Christ
END:VEVENT
BEGIN:VEVENT
DTSTART;TZID=America/Los_Angeles:20260915T130000
DTEND;TZID=America/Los_Angeles:20260915T180000
DTSTAMP:20260425T094906
CREATED:20251019T214200Z
LAST-MODIFIED:20251019T214200Z
UID:10000504-1789477200-1789495200@www.osucc.com
SUMMARY:Tuesday Coffee
DESCRIPTION:
URL:https://www.osucc.com/event/tuesday-coffee/2026-09-15/
LOCATION:University Christian Center\, 1655 NW Monroe Ave\, Corvallis\, Oregon\, 97330\, United States
END:VEVENT
BEGIN:VEVENT
DTSTART;TZID=America/Los_Angeles:20260919T180000
DTEND;TZID=America/Los_Angeles:20260919T200000
DTSTAMP:20260425T094906
CREATED:20251019T210314Z
LAST-MODIFIED:20251019T221519Z
UID:10000181-1789840800-1789848000@www.osucc.com
SUMMARY:Saturday Night Sports
DESCRIPTION:Check Instagram for Location and Sports!!
URL:https://www.osucc.com/event/saturday-night-sports/2026-09-19/
LOCATION:Oregon
CATEGORIES:Sports
END:VEVENT
BEGIN:VEVENT
DTSTART;TZID=America/Los_Angeles:20260920T103000
DTEND;TZID=America/Los_Angeles:20260920T120000
DTSTAMP:20260425T094906
CREATED:20251019T210617Z
LAST-MODIFIED:20251019T231042Z
UID:10000240-1789900200-1789905600@www.osucc.com
SUMMARY:Sunday Morning Church
DESCRIPTION:
URL:https://www.osucc.com/event/sunday-morning-church/2026-09-20/
LOCATION:Circle Church of Christ\, 2020 NW Circle Blvd\, Corvallis\, OR\, 97330\, United States
CATEGORIES:Bible Study,Circle Church of Christ
END:VEVENT
BEGIN:VEVENT
DTSTART;TZID=America/Los_Angeles:20260922T130000
DTEND;TZID=America/Los_Angeles:20260922T180000
DTSTAMP:20260425T094906
CREATED:20251019T214200Z
LAST-MODIFIED:20251019T214200Z
UID:10000505-1790082000-1790100000@www.osucc.com
SUMMARY:Tuesday Coffee
DESCRIPTION:
URL:https://www.osucc.com/event/tuesday-coffee/2026-09-22/
LOCATION:University Christian Center\, 1655 NW Monroe Ave\, Corvallis\, Oregon\, 97330\, United States
END:VEVENT
BEGIN:VEVENT
DTSTART;TZID=America/Los_Angeles:20260926T180000
DTEND;TZID=America/Los_Angeles:20260926T200000
DTSTAMP:20260425T094906
CREATED:20251019T210314Z
LAST-MODIFIED:20251019T221519Z
UID:10000182-1790445600-1790452800@www.osucc.com
SUMMARY:Saturday Night Sports
DESCRIPTION:Check Instagram for Location and Sports!!
URL:https://www.osucc.com/event/saturday-night-sports/2026-09-26/
LOCATION:Oregon
CATEGORIES:Sports
END:VEVENT
BEGIN:VEVENT
DTSTART;TZID=America/Los_Angeles:20260927T103000
DTEND;TZID=America/Los_Angeles:20260927T120000
DTSTAMP:20260425T094906
CREATED:20251019T210617Z
LAST-MODIFIED:20251019T231042Z
UID:10000241-1790505000-1790510400@www.osucc.com
SUMMARY:Sunday Morning Church
DESCRIPTION:
URL:https://www.osucc.com/event/sunday-morning-church/2026-09-27/
LOCATION:Circle Church of Christ\, 2020 NW Circle Blvd\, Corvallis\, OR\, 97330\, United States
CATEGORIES:Bible Study,Circle Church of Christ
END:VEVENT
BEGIN:VEVENT
DTSTART;TZID=America/Los_Angeles:20260929T130000
DTEND;TZID=America/Los_Angeles:20260929T180000
DTSTAMP:20260425T094906
CREATED:20251019T214200Z
LAST-MODIFIED:20251019T214200Z
UID:10000506-1790686800-1790704800@www.osucc.com
SUMMARY:Tuesday Coffee
DESCRIPTION:
URL:https://www.osucc.com/event/tuesday-coffee/2026-09-29/
LOCATION:University Christian Center\, 1655 NW Monroe Ave\, Corvallis\, Oregon\, 97330\, United States
END:VEVENT
BEGIN:VEVENT
DTSTART;TZID=America/Los_Angeles:20261003T180000
DTEND;TZID=America/Los_Angeles:20261003T200000
DTSTAMP:20260425T094906
CREATED:20251019T210314Z
LAST-MODIFIED:20251019T221519Z
UID:10000183-1791050400-1791057600@www.osucc.com
SUMMARY:Saturday Night Sports
DESCRIPTION:Check Instagram for Location and Sports!!
URL:https://www.osucc.com/event/saturday-night-sports/2026-10-03/
LOCATION:Oregon
CATEGORIES:Sports
END:VEVENT
BEGIN:VEVENT
DTSTART;TZID=America/Los_Angeles:20261004T103000
DTEND;TZID=America/Los_Angeles:20261004T120000
DTSTAMP:20260425T094906
CREATED:20251019T210617Z
LAST-MODIFIED:20251019T231042Z
UID:10000242-1791109800-1791115200@www.osucc.com
SUMMARY:Sunday Morning Church
DESCRIPTION:
URL:https://www.osucc.com/event/sunday-morning-church/2026-10-04/
LOCATION:Circle Church of Christ\, 2020 NW Circle Blvd\, Corvallis\, OR\, 97330\, United States
CATEGORIES:Bible Study,Circle Church of Christ
END:VEVENT
BEGIN:VEVENT
DTSTART;TZID=America/Los_Angeles:20261006T130000
DTEND;TZID=America/Los_Angeles:20261006T180000
DTSTAMP:20260425T094906
CREATED:20251019T214200Z
LAST-MODIFIED:20251019T214200Z
UID:10000507-1791291600-1791309600@www.osucc.com
SUMMARY:Tuesday Coffee
DESCRIPTION:
URL:https://www.osucc.com/event/tuesday-coffee/2026-10-06/
LOCATION:University Christian Center\, 1655 NW Monroe Ave\, Corvallis\, Oregon\, 97330\, United States
END:VEVENT
END:VCALENDAR