BEGIN:VCALENDAR
VERSION:2.0
PRODID:-//OSUCC - ECPv6.15.20//NONSGML v1.0//EN
CALSCALE:GREGORIAN
METHOD:PUBLISH
X-WR-CALNAME:OSUCC
X-ORIGINAL-URL:https://www.osucc.com
X-WR-CALDESC:Events for OSUCC
REFRESH-INTERVAL;VALUE=DURATION:PT1H
X-Robots-Tag:noindex
X-PUBLISHED-TTL:PT1H
BEGIN:VTIMEZONE
TZID:America/Los_Angeles
BEGIN:DAYLIGHT
TZOFFSETFROM:-0800
TZOFFSETTO:-0700
TZNAME:PDT
DTSTART:20260308T100000
END:DAYLIGHT
BEGIN:STANDARD
TZOFFSETFROM:-0700
TZOFFSETTO:-0800
TZNAME:PST
DTSTART:20261101T090000
END:STANDARD
BEGIN:DAYLIGHT
TZOFFSETFROM:-0800
TZOFFSETTO:-0700
TZNAME:PDT
DTSTART:20270314T100000
END:DAYLIGHT
BEGIN:STANDARD
TZOFFSETFROM:-0700
TZOFFSETTO:-0800
TZNAME:PST
DTSTART:20271107T090000
END:STANDARD
BEGIN:DAYLIGHT
TZOFFSETFROM:-0800
TZOFFSETTO:-0700
TZNAME:PDT
DTSTART:20280312T100000
END:DAYLIGHT
BEGIN:STANDARD
TZOFFSETFROM:-0700
TZOFFSETTO:-0800
TZNAME:PST
DTSTART:20281105T090000
END:STANDARD
BEGIN:DAYLIGHT
TZOFFSETFROM:-0800
TZOFFSETTO:-0700
TZNAME:PDT
DTSTART:20290311T100000
END:DAYLIGHT
BEGIN:STANDARD
TZOFFSETFROM:-0700
TZOFFSETTO:-0800
TZNAME:PST
DTSTART:20291104T090000
END:STANDARD
END:VTIMEZONE
BEGIN:VEVENT
DTSTART;TZID=America/Los_Angeles:20271017T103000
DTEND;TZID=America/Los_Angeles:20271017T120000
DTSTAMP:20260425T091510
CREATED:20251019T210617Z
LAST-MODIFIED:20251019T231042Z
UID:10000296-1823769000-1823774400@www.osucc.com
SUMMARY:Sunday Morning Church
DESCRIPTION:
URL:https://www.osucc.com/event/sunday-morning-church/2027-10-17/
LOCATION:Circle Church of Christ\, 2020 NW Circle Blvd\, Corvallis\, OR\, 97330\, United States
CATEGORIES:Bible Study,Circle Church of Christ
END:VEVENT
BEGIN:VEVENT
DTSTART;TZID=America/Los_Angeles:20271024T103000
DTEND;TZID=America/Los_Angeles:20271024T120000
DTSTAMP:20260425T091510
CREATED:20251019T210617Z
LAST-MODIFIED:20251019T231042Z
UID:10000297-1824373800-1824379200@www.osucc.com
SUMMARY:Sunday Morning Church
DESCRIPTION:
URL:https://www.osucc.com/event/sunday-morning-church/2027-10-24/
LOCATION:Circle Church of Christ\, 2020 NW Circle Blvd\, Corvallis\, OR\, 97330\, United States
CATEGORIES:Bible Study,Circle Church of Christ
END:VEVENT
BEGIN:VEVENT
DTSTART;TZID=America/Los_Angeles:20271031T103000
DTEND;TZID=America/Los_Angeles:20271031T120000
DTSTAMP:20260425T091510
CREATED:20251019T210617Z
LAST-MODIFIED:20251019T231042Z
UID:10000298-1824978600-1824984000@www.osucc.com
SUMMARY:Sunday Morning Church
DESCRIPTION:
URL:https://www.osucc.com/event/sunday-morning-church/2027-10-31/
LOCATION:Circle Church of Christ\, 2020 NW Circle Blvd\, Corvallis\, OR\, 97330\, United States
CATEGORIES:Bible Study,Circle Church of Christ
END:VEVENT
BEGIN:VEVENT
DTSTART;TZID=America/Los_Angeles:20271107T103000
DTEND;TZID=America/Los_Angeles:20271107T120000
DTSTAMP:20260425T091510
CREATED:20251019T210617Z
LAST-MODIFIED:20251019T231042Z
UID:10000299-1825583400-1825588800@www.osucc.com
SUMMARY:Sunday Morning Church
DESCRIPTION:
URL:https://www.osucc.com/event/sunday-morning-church/2027-11-07/
LOCATION:Circle Church of Christ\, 2020 NW Circle Blvd\, Corvallis\, OR\, 97330\, United States
CATEGORIES:Bible Study,Circle Church of Christ
END:VEVENT
BEGIN:VEVENT
DTSTART;TZID=America/Los_Angeles:20271114T103000
DTEND;TZID=America/Los_Angeles:20271114T120000
DTSTAMP:20260425T091510
CREATED:20251019T210617Z
LAST-MODIFIED:20251019T231042Z
UID:10000300-1826188200-1826193600@www.osucc.com
SUMMARY:Sunday Morning Church
DESCRIPTION:
URL:https://www.osucc.com/event/sunday-morning-church/2027-11-14/
LOCATION:Circle Church of Christ\, 2020 NW Circle Blvd\, Corvallis\, OR\, 97330\, United States
CATEGORIES:Bible Study,Circle Church of Christ
END:VEVENT
BEGIN:VEVENT
DTSTART;TZID=America/Los_Angeles:20271121T103000
DTEND;TZID=America/Los_Angeles:20271121T120000
DTSTAMP:20260425T091510
CREATED:20251019T210617Z
LAST-MODIFIED:20251019T231042Z
UID:10000301-1826793000-1826798400@www.osucc.com
SUMMARY:Sunday Morning Church
DESCRIPTION:
URL:https://www.osucc.com/event/sunday-morning-church/2027-11-21/
LOCATION:Circle Church of Christ\, 2020 NW Circle Blvd\, Corvallis\, OR\, 97330\, United States
CATEGORIES:Bible Study,Circle Church of Christ
END:VEVENT
BEGIN:VEVENT
DTSTART;TZID=America/Los_Angeles:20271128T103000
DTEND;TZID=America/Los_Angeles:20271128T120000
DTSTAMP:20260425T091510
CREATED:20251019T210617Z
LAST-MODIFIED:20251019T231042Z
UID:10000302-1827397800-1827403200@www.osucc.com
SUMMARY:Sunday Morning Church
DESCRIPTION:
URL:https://www.osucc.com/event/sunday-morning-church/2027-11-28/
LOCATION:Circle Church of Christ\, 2020 NW Circle Blvd\, Corvallis\, OR\, 97330\, United States
CATEGORIES:Bible Study,Circle Church of Christ
END:VEVENT
BEGIN:VEVENT
DTSTART;TZID=America/Los_Angeles:20271205T103000
DTEND;TZID=America/Los_Angeles:20271205T120000
DTSTAMP:20260425T091510
CREATED:20251019T210617Z
LAST-MODIFIED:20251019T231042Z
UID:10000303-1828002600-1828008000@www.osucc.com
SUMMARY:Sunday Morning Church
DESCRIPTION:
URL:https://www.osucc.com/event/sunday-morning-church/2027-12-05/
LOCATION:Circle Church of Christ\, 2020 NW Circle Blvd\, Corvallis\, OR\, 97330\, United States
CATEGORIES:Bible Study,Circle Church of Christ
END:VEVENT
BEGIN:VEVENT
DTSTART;TZID=America/Los_Angeles:20271212T103000
DTEND;TZID=America/Los_Angeles:20271212T120000
DTSTAMP:20260425T091510
CREATED:20251019T210617Z
LAST-MODIFIED:20251019T231042Z
UID:10000304-1828607400-1828612800@www.osucc.com
SUMMARY:Sunday Morning Church
DESCRIPTION:
URL:https://www.osucc.com/event/sunday-morning-church/2027-12-12/
LOCATION:Circle Church of Christ\, 2020 NW Circle Blvd\, Corvallis\, OR\, 97330\, United States
CATEGORIES:Bible Study,Circle Church of Christ
END:VEVENT
BEGIN:VEVENT
DTSTART;TZID=America/Los_Angeles:20271219T103000
DTEND;TZID=America/Los_Angeles:20271219T120000
DTSTAMP:20260425T091510
CREATED:20251019T210617Z
LAST-MODIFIED:20251019T231042Z
UID:10000305-1829212200-1829217600@www.osucc.com
SUMMARY:Sunday Morning Church
DESCRIPTION:
URL:https://www.osucc.com/event/sunday-morning-church/2027-12-19/
LOCATION:Circle Church of Christ\, 2020 NW Circle Blvd\, Corvallis\, OR\, 97330\, United States
CATEGORIES:Bible Study,Circle Church of Christ
END:VEVENT
BEGIN:VEVENT
DTSTART;TZID=America/Los_Angeles:20271226T103000
DTEND;TZID=America/Los_Angeles:20271226T120000
DTSTAMP:20260425T091510
CREATED:20251019T210617Z
LAST-MODIFIED:20251019T231042Z
UID:10000306-1829817000-1829822400@www.osucc.com
SUMMARY:Sunday Morning Church
DESCRIPTION:
URL:https://www.osucc.com/event/sunday-morning-church/2027-12-26/
LOCATION:Circle Church of Christ\, 2020 NW Circle Blvd\, Corvallis\, OR\, 97330\, United States
CATEGORIES:Bible Study,Circle Church of Christ
END:VEVENT
BEGIN:VEVENT
DTSTART;TZID=America/Los_Angeles:20280102T103000
DTEND;TZID=America/Los_Angeles:20280102T120000
DTSTAMP:20260425T091510
CREATED:20251019T210617Z
LAST-MODIFIED:20251019T231042Z
UID:10000307-1830421800-1830427200@www.osucc.com
SUMMARY:Sunday Morning Church
DESCRIPTION:
URL:https://www.osucc.com/event/sunday-morning-church/2028-01-02/
LOCATION:Circle Church of Christ\, 2020 NW Circle Blvd\, Corvallis\, OR\, 97330\, United States
CATEGORIES:Bible Study,Circle Church of Christ
END:VEVENT
BEGIN:VEVENT
DTSTART;TZID=America/Los_Angeles:20280109T103000
DTEND;TZID=America/Los_Angeles:20280109T120000
DTSTAMP:20260425T091510
CREATED:20251019T210617Z
LAST-MODIFIED:20251019T231042Z
UID:10000308-1831026600-1831032000@www.osucc.com
SUMMARY:Sunday Morning Church
DESCRIPTION:
URL:https://www.osucc.com/event/sunday-morning-church/2028-01-09/
LOCATION:Circle Church of Christ\, 2020 NW Circle Blvd\, Corvallis\, OR\, 97330\, United States
CATEGORIES:Bible Study,Circle Church of Christ
END:VEVENT
BEGIN:VEVENT
DTSTART;TZID=America/Los_Angeles:20280116T103000
DTEND;TZID=America/Los_Angeles:20280116T120000
DTSTAMP:20260425T091510
CREATED:20251019T210617Z
LAST-MODIFIED:20251019T231042Z
UID:10000309-1831631400-1831636800@www.osucc.com
SUMMARY:Sunday Morning Church
DESCRIPTION:
URL:https://www.osucc.com/event/sunday-morning-church/2028-01-16/
LOCATION:Circle Church of Christ\, 2020 NW Circle Blvd\, Corvallis\, OR\, 97330\, United States
CATEGORIES:Bible Study,Circle Church of Christ
END:VEVENT
BEGIN:VEVENT
DTSTART;TZID=America/Los_Angeles:20280123T103000
DTEND;TZID=America/Los_Angeles:20280123T120000
DTSTAMP:20260425T091510
CREATED:20251019T210617Z
LAST-MODIFIED:20251019T231042Z
UID:10000310-1832236200-1832241600@www.osucc.com
SUMMARY:Sunday Morning Church
DESCRIPTION:
URL:https://www.osucc.com/event/sunday-morning-church/2028-01-23/
LOCATION:Circle Church of Christ\, 2020 NW Circle Blvd\, Corvallis\, OR\, 97330\, United States
CATEGORIES:Bible Study,Circle Church of Christ
END:VEVENT
BEGIN:VEVENT
DTSTART;TZID=America/Los_Angeles:20280130T103000
DTEND;TZID=America/Los_Angeles:20280130T120000
DTSTAMP:20260425T091510
CREATED:20251019T210617Z
LAST-MODIFIED:20251019T231042Z
UID:10000311-1832841000-1832846400@www.osucc.com
SUMMARY:Sunday Morning Church
DESCRIPTION:
URL:https://www.osucc.com/event/sunday-morning-church/2028-01-30/
LOCATION:Circle Church of Christ\, 2020 NW Circle Blvd\, Corvallis\, OR\, 97330\, United States
CATEGORIES:Bible Study,Circle Church of Christ
END:VEVENT
BEGIN:VEVENT
DTSTART;TZID=America/Los_Angeles:20280206T103000
DTEND;TZID=America/Los_Angeles:20280206T120000
DTSTAMP:20260425T091510
CREATED:20251019T210617Z
LAST-MODIFIED:20251019T231042Z
UID:10000312-1833445800-1833451200@www.osucc.com
SUMMARY:Sunday Morning Church
DESCRIPTION:
URL:https://www.osucc.com/event/sunday-morning-church/2028-02-06/
LOCATION:Circle Church of Christ\, 2020 NW Circle Blvd\, Corvallis\, OR\, 97330\, United States
CATEGORIES:Bible Study,Circle Church of Christ
END:VEVENT
BEGIN:VEVENT
DTSTART;TZID=America/Los_Angeles:20280213T103000
DTEND;TZID=America/Los_Angeles:20280213T120000
DTSTAMP:20260425T091510
CREATED:20251019T210617Z
LAST-MODIFIED:20251019T231042Z
UID:10000313-1834050600-1834056000@www.osucc.com
SUMMARY:Sunday Morning Church
DESCRIPTION:
URL:https://www.osucc.com/event/sunday-morning-church/2028-02-13/
LOCATION:Circle Church of Christ\, 2020 NW Circle Blvd\, Corvallis\, OR\, 97330\, United States
CATEGORIES:Bible Study,Circle Church of Christ
END:VEVENT
BEGIN:VEVENT
DTSTART;TZID=America/Los_Angeles:20280220T103000
DTEND;TZID=America/Los_Angeles:20280220T120000
DTSTAMP:20260425T091510
CREATED:20251019T210617Z
LAST-MODIFIED:20251019T231042Z
UID:10000314-1834655400-1834660800@www.osucc.com
SUMMARY:Sunday Morning Church
DESCRIPTION:
URL:https://www.osucc.com/event/sunday-morning-church/2028-02-20/
LOCATION:Circle Church of Christ\, 2020 NW Circle Blvd\, Corvallis\, OR\, 97330\, United States
CATEGORIES:Bible Study,Circle Church of Christ
END:VEVENT
BEGIN:VEVENT
DTSTART;TZID=America/Los_Angeles:20280227T103000
DTEND;TZID=America/Los_Angeles:20280227T120000
DTSTAMP:20260425T091510
CREATED:20251019T210617Z
LAST-MODIFIED:20251019T231042Z
UID:10000315-1835260200-1835265600@www.osucc.com
SUMMARY:Sunday Morning Church
DESCRIPTION:
URL:https://www.osucc.com/event/sunday-morning-church/2028-02-27/
LOCATION:Circle Church of Christ\, 2020 NW Circle Blvd\, Corvallis\, OR\, 97330\, United States
CATEGORIES:Bible Study,Circle Church of Christ
END:VEVENT
BEGIN:VEVENT
DTSTART;TZID=America/Los_Angeles:20280305T103000
DTEND;TZID=America/Los_Angeles:20280305T120000
DTSTAMP:20260425T091510
CREATED:20251019T210617Z
LAST-MODIFIED:20251019T231042Z
UID:10000316-1835865000-1835870400@www.osucc.com
SUMMARY:Sunday Morning Church
DESCRIPTION:
URL:https://www.osucc.com/event/sunday-morning-church/2028-03-05/
LOCATION:Circle Church of Christ\, 2020 NW Circle Blvd\, Corvallis\, OR\, 97330\, United States
CATEGORIES:Bible Study,Circle Church of Christ
END:VEVENT
BEGIN:VEVENT
DTSTART;TZID=America/Los_Angeles:20280312T103000
DTEND;TZID=America/Los_Angeles:20280312T120000
DTSTAMP:20260425T091510
CREATED:20251019T210617Z
LAST-MODIFIED:20251019T231042Z
UID:10000317-1836469800-1836475200@www.osucc.com
SUMMARY:Sunday Morning Church
DESCRIPTION:
URL:https://www.osucc.com/event/sunday-morning-church/2028-03-12/
LOCATION:Circle Church of Christ\, 2020 NW Circle Blvd\, Corvallis\, OR\, 97330\, United States
CATEGORIES:Bible Study,Circle Church of Christ
END:VEVENT
BEGIN:VEVENT
DTSTART;TZID=America/Los_Angeles:20280319T103000
DTEND;TZID=America/Los_Angeles:20280319T120000
DTSTAMP:20260425T091510
CREATED:20251019T210617Z
LAST-MODIFIED:20251019T231042Z
UID:10000318-1837074600-1837080000@www.osucc.com
SUMMARY:Sunday Morning Church
DESCRIPTION:
URL:https://www.osucc.com/event/sunday-morning-church/2028-03-19/
LOCATION:Circle Church of Christ\, 2020 NW Circle Blvd\, Corvallis\, OR\, 97330\, United States
CATEGORIES:Bible Study,Circle Church of Christ
END:VEVENT
BEGIN:VEVENT
DTSTART;TZID=America/Los_Angeles:20280326T103000
DTEND;TZID=America/Los_Angeles:20280326T120000
DTSTAMP:20260425T091510
CREATED:20251019T210617Z
LAST-MODIFIED:20251019T231042Z
UID:10000319-1837679400-1837684800@www.osucc.com
SUMMARY:Sunday Morning Church
DESCRIPTION:
URL:https://www.osucc.com/event/sunday-morning-church/2028-03-26/
LOCATION:Circle Church of Christ\, 2020 NW Circle Blvd\, Corvallis\, OR\, 97330\, United States
CATEGORIES:Bible Study,Circle Church of Christ
END:VEVENT
BEGIN:VEVENT
DTSTART;TZID=America/Los_Angeles:20280402T103000
DTEND;TZID=America/Los_Angeles:20280402T120000
DTSTAMP:20260425T091510
CREATED:20251019T210617Z
LAST-MODIFIED:20251019T231042Z
UID:10000320-1838284200-1838289600@www.osucc.com
SUMMARY:Sunday Morning Church
DESCRIPTION:
URL:https://www.osucc.com/event/sunday-morning-church/2028-04-02/
LOCATION:Circle Church of Christ\, 2020 NW Circle Blvd\, Corvallis\, OR\, 97330\, United States
CATEGORIES:Bible Study,Circle Church of Christ
END:VEVENT
BEGIN:VEVENT
DTSTART;TZID=America/Los_Angeles:20280409T103000
DTEND;TZID=America/Los_Angeles:20280409T120000
DTSTAMP:20260425T091510
CREATED:20251019T210617Z
LAST-MODIFIED:20251019T231042Z
UID:10000321-1838889000-1838894400@www.osucc.com
SUMMARY:Sunday Morning Church
DESCRIPTION:
URL:https://www.osucc.com/event/sunday-morning-church/2028-04-09/
LOCATION:Circle Church of Christ\, 2020 NW Circle Blvd\, Corvallis\, OR\, 97330\, United States
CATEGORIES:Bible Study,Circle Church of Christ
END:VEVENT
BEGIN:VEVENT
DTSTART;TZID=America/Los_Angeles:20280416T103000
DTEND;TZID=America/Los_Angeles:20280416T120000
DTSTAMP:20260425T091510
CREATED:20251019T210617Z
LAST-MODIFIED:20251019T231042Z
UID:10000322-1839493800-1839499200@www.osucc.com
SUMMARY:Sunday Morning Church
DESCRIPTION:
URL:https://www.osucc.com/event/sunday-morning-church/2028-04-16/
LOCATION:Circle Church of Christ\, 2020 NW Circle Blvd\, Corvallis\, OR\, 97330\, United States
CATEGORIES:Bible Study,Circle Church of Christ
END:VEVENT
BEGIN:VEVENT
DTSTART;TZID=America/Los_Angeles:20280423T103000
DTEND;TZID=America/Los_Angeles:20280423T120000
DTSTAMP:20260425T091510
CREATED:20251019T210617Z
LAST-MODIFIED:20251019T231042Z
UID:10000323-1840098600-1840104000@www.osucc.com
SUMMARY:Sunday Morning Church
DESCRIPTION:
URL:https://www.osucc.com/event/sunday-morning-church/2028-04-23/
LOCATION:Circle Church of Christ\, 2020 NW Circle Blvd\, Corvallis\, OR\, 97330\, United States
CATEGORIES:Bible Study,Circle Church of Christ
END:VEVENT
BEGIN:VEVENT
DTSTART;TZID=America/Los_Angeles:20280430T103000
DTEND;TZID=America/Los_Angeles:20280430T120000
DTSTAMP:20260425T091510
CREATED:20251019T210617Z
LAST-MODIFIED:20251019T231042Z
UID:10000324-1840703400-1840708800@www.osucc.com
SUMMARY:Sunday Morning Church
DESCRIPTION:
URL:https://www.osucc.com/event/sunday-morning-church/2028-04-30/
LOCATION:Circle Church of Christ\, 2020 NW Circle Blvd\, Corvallis\, OR\, 97330\, United States
CATEGORIES:Bible Study,Circle Church of Christ
END:VEVENT
BEGIN:VEVENT
DTSTART;TZID=America/Los_Angeles:20280507T103000
DTEND;TZID=America/Los_Angeles:20280507T120000
DTSTAMP:20260425T091510
CREATED:20251019T210617Z
LAST-MODIFIED:20251019T231042Z
UID:10000325-1841308200-1841313600@www.osucc.com
SUMMARY:Sunday Morning Church
DESCRIPTION:
URL:https://www.osucc.com/event/sunday-morning-church/2028-05-07/
LOCATION:Circle Church of Christ\, 2020 NW Circle Blvd\, Corvallis\, OR\, 97330\, United States
CATEGORIES:Bible Study,Circle Church of Christ
END:VEVENT
END:VCALENDAR