BEGIN:VCALENDAR
VERSION:2.0
PRODID:-//OSUCC - ECPv6.15.20//NONSGML v1.0//EN
CALSCALE:GREGORIAN
METHOD:PUBLISH
X-WR-CALNAME:OSUCC
X-ORIGINAL-URL:https://www.osucc.com
X-WR-CALDESC:Events for OSUCC
REFRESH-INTERVAL;VALUE=DURATION:PT1H
X-Robots-Tag:noindex
X-PUBLISHED-TTL:PT1H
BEGIN:VTIMEZONE
TZID:America/Los_Angeles
BEGIN:DAYLIGHT
TZOFFSETFROM:-0800
TZOFFSETTO:-0700
TZNAME:PDT
DTSTART:20250309T100000
END:DAYLIGHT
BEGIN:STANDARD
TZOFFSETFROM:-0700
TZOFFSETTO:-0800
TZNAME:PST
DTSTART:20251102T090000
END:STANDARD
BEGIN:DAYLIGHT
TZOFFSETFROM:-0800
TZOFFSETTO:-0700
TZNAME:PDT
DTSTART:20260308T100000
END:DAYLIGHT
BEGIN:STANDARD
TZOFFSETFROM:-0700
TZOFFSETTO:-0800
TZNAME:PST
DTSTART:20261101T090000
END:STANDARD
BEGIN:DAYLIGHT
TZOFFSETFROM:-0800
TZOFFSETTO:-0700
TZNAME:PDT
DTSTART:20270314T100000
END:DAYLIGHT
BEGIN:STANDARD
TZOFFSETFROM:-0700
TZOFFSETTO:-0800
TZNAME:PST
DTSTART:20271107T090000
END:STANDARD
END:VTIMEZONE
BEGIN:VEVENT
DTSTART;TZID=America/Los_Angeles:20260201T103000
DTEND;TZID=America/Los_Angeles:20260201T120000
DTSTAMP:20260425T041217
CREATED:20251019T210617Z
LAST-MODIFIED:20251019T231042Z
UID:10000207-1769941800-1769947200@www.osucc.com
SUMMARY:Sunday Morning Church
DESCRIPTION:
URL:https://www.osucc.com/event/sunday-morning-church/2026-02-01/
LOCATION:Circle Church of Christ\, 2020 NW Circle Blvd\, Corvallis\, OR\, 97330\, United States
CATEGORIES:Bible Study,Circle Church of Christ
END:VEVENT
BEGIN:VEVENT
DTSTART;TZID=America/Los_Angeles:20260203T130000
DTEND;TZID=America/Los_Angeles:20260203T180000
DTSTAMP:20260425T041217
CREATED:20251019T214200Z
LAST-MODIFIED:20251019T214200Z
UID:10000472-1770123600-1770141600@www.osucc.com
SUMMARY:Tuesday Coffee
DESCRIPTION:
URL:https://www.osucc.com/event/tuesday-coffee/2026-02-03/
LOCATION:University Christian Center\, 1655 NW Monroe Ave\, Corvallis\, Oregon\, 97330\, United States
END:VEVENT
BEGIN:VEVENT
DTSTART;TZID=America/Los_Angeles:20260207T180000
DTEND;TZID=America/Los_Angeles:20260207T200000
DTSTAMP:20260425T041217
CREATED:20251019T210314Z
LAST-MODIFIED:20251019T221519Z
UID:10000149-1770487200-1770494400@www.osucc.com
SUMMARY:Saturday Night Sports
DESCRIPTION:Check Instagram for Location and Sports!!
URL:https://www.osucc.com/event/saturday-night-sports/2026-02-07/
LOCATION:Oregon
CATEGORIES:Sports
END:VEVENT
BEGIN:VEVENT
DTSTART;TZID=America/Los_Angeles:20260207T200000
DTEND;TZID=America/Los_Angeles:20260207T233000
DTSTAMP:20260425T041217
CREATED:20260128T003414Z
LAST-MODIFIED:20260128T003414Z
UID:10000536-1770494400-1770507000@www.osucc.com
SUMMARY:Midnight Breakfast
DESCRIPTION:
URL:https://www.osucc.com/event/midnight-breakfast/
LOCATION:University Christian Center\, 1655 NW Monroe Ave\, Corvallis\, Oregon\, 97330\, United States
ORGANIZER;CN="Joshua Stutzman":MAILTO:stutzman.joshua@gmail.com
END:VEVENT
BEGIN:VEVENT
DTSTART;TZID=America/Los_Angeles:20260208T103000
DTEND;TZID=America/Los_Angeles:20260208T120000
DTSTAMP:20260425T041217
CREATED:20251019T210617Z
LAST-MODIFIED:20251019T231042Z
UID:10000208-1770546600-1770552000@www.osucc.com
SUMMARY:Sunday Morning Church
DESCRIPTION:
URL:https://www.osucc.com/event/sunday-morning-church/2026-02-08/
LOCATION:Circle Church of Christ\, 2020 NW Circle Blvd\, Corvallis\, OR\, 97330\, United States
CATEGORIES:Bible Study,Circle Church of Christ
END:VEVENT
BEGIN:VEVENT
DTSTART;TZID=America/Los_Angeles:20260210T130000
DTEND;TZID=America/Los_Angeles:20260210T180000
DTSTAMP:20260425T041217
CREATED:20251019T214200Z
LAST-MODIFIED:20251019T214200Z
UID:10000473-1770728400-1770746400@www.osucc.com
SUMMARY:Tuesday Coffee
DESCRIPTION:
URL:https://www.osucc.com/event/tuesday-coffee/2026-02-10/
LOCATION:University Christian Center\, 1655 NW Monroe Ave\, Corvallis\, Oregon\, 97330\, United States
END:VEVENT
BEGIN:VEVENT
DTSTART;TZID=America/Los_Angeles:20260214T180000
DTEND;TZID=America/Los_Angeles:20260214T200000
DTSTAMP:20260425T041217
CREATED:20251019T210314Z
LAST-MODIFIED:20251019T221519Z
UID:10000150-1771092000-1771099200@www.osucc.com
SUMMARY:Saturday Night Sports
DESCRIPTION:Check Instagram for Location and Sports!!
URL:https://www.osucc.com/event/saturday-night-sports/2026-02-14/
LOCATION:Oregon
CATEGORIES:Sports
END:VEVENT
BEGIN:VEVENT
DTSTART;TZID=America/Los_Angeles:20260215T103000
DTEND;TZID=America/Los_Angeles:20260215T120000
DTSTAMP:20260425T041217
CREATED:20251019T210617Z
LAST-MODIFIED:20251019T231042Z
UID:10000209-1771151400-1771156800@www.osucc.com
SUMMARY:Sunday Morning Church
DESCRIPTION:
URL:https://www.osucc.com/event/sunday-morning-church/2026-02-15/
LOCATION:Circle Church of Christ\, 2020 NW Circle Blvd\, Corvallis\, OR\, 97330\, United States
CATEGORIES:Bible Study,Circle Church of Christ
END:VEVENT
BEGIN:VEVENT
DTSTART;TZID=America/Los_Angeles:20260217T130000
DTEND;TZID=America/Los_Angeles:20260217T180000
DTSTAMP:20260425T041217
CREATED:20251019T214200Z
LAST-MODIFIED:20251019T214200Z
UID:10000474-1771333200-1771351200@www.osucc.com
SUMMARY:Tuesday Coffee
DESCRIPTION:
URL:https://www.osucc.com/event/tuesday-coffee/2026-02-17/
LOCATION:University Christian Center\, 1655 NW Monroe Ave\, Corvallis\, Oregon\, 97330\, United States
END:VEVENT
BEGIN:VEVENT
DTSTART;TZID=America/Los_Angeles:20260220T180000
DTEND;TZID=America/Los_Angeles:20260220T203000
DTSTAMP:20260425T041217
CREATED:20260210T175711Z
LAST-MODIFIED:20260210T175720Z
UID:10000539-1771610400-1771619400@www.osucc.com
SUMMARY:Paddington Movie and Game Night
DESCRIPTION:Come to UCC for a fun night of the movie Paddington and games with your favorite Paddington themed snacks including oranges\, jam\, gummy bears\, and teddy grahams and more.
URL:https://www.osucc.com/event/paddington-movie-and-game-night/
LOCATION:University Christian Center\, 1655 NW Monroe Ave\, Corvallis\, Oregon\, 97330\, United States
END:VEVENT
BEGIN:VEVENT
DTSTART;TZID=America/Los_Angeles:20260221T180000
DTEND;TZID=America/Los_Angeles:20260221T200000
DTSTAMP:20260425T041217
CREATED:20251019T210314Z
LAST-MODIFIED:20251019T221519Z
UID:10000151-1771696800-1771704000@www.osucc.com
SUMMARY:Saturday Night Sports
DESCRIPTION:Check Instagram for Location and Sports!!
URL:https://www.osucc.com/event/saturday-night-sports/2026-02-21/
LOCATION:Oregon
CATEGORIES:Sports
END:VEVENT
BEGIN:VEVENT
DTSTART;TZID=America/Los_Angeles:20260222T103000
DTEND;TZID=America/Los_Angeles:20260222T120000
DTSTAMP:20260425T041217
CREATED:20251019T210617Z
LAST-MODIFIED:20251019T231042Z
UID:10000210-1771756200-1771761600@www.osucc.com
SUMMARY:Sunday Morning Church
DESCRIPTION:
URL:https://www.osucc.com/event/sunday-morning-church/2026-02-22/
LOCATION:Circle Church of Christ\, 2020 NW Circle Blvd\, Corvallis\, OR\, 97330\, United States
CATEGORIES:Bible Study,Circle Church of Christ
END:VEVENT
BEGIN:VEVENT
DTSTART;TZID=America/Los_Angeles:20260224T130000
DTEND;TZID=America/Los_Angeles:20260224T180000
DTSTAMP:20260425T041217
CREATED:20251019T214200Z
LAST-MODIFIED:20251019T214200Z
UID:10000475-1771938000-1771956000@www.osucc.com
SUMMARY:Tuesday Coffee
DESCRIPTION:
URL:https://www.osucc.com/event/tuesday-coffee/2026-02-24/
LOCATION:University Christian Center\, 1655 NW Monroe Ave\, Corvallis\, Oregon\, 97330\, United States
END:VEVENT
BEGIN:VEVENT
DTSTART;TZID=America/Los_Angeles:20260228T180000
DTEND;TZID=America/Los_Angeles:20260228T200000
DTSTAMP:20260425T041217
CREATED:20251019T210314Z
LAST-MODIFIED:20251019T221519Z
UID:10000152-1772301600-1772308800@www.osucc.com
SUMMARY:Saturday Night Sports
DESCRIPTION:Check Instagram for Location and Sports!!
URL:https://www.osucc.com/event/saturday-night-sports/2026-02-28/
LOCATION:Oregon
CATEGORIES:Sports
END:VEVENT
END:VCALENDAR