BEGIN:VCALENDAR
VERSION:2.0
PRODID:-//OSUCC - ECPv6.15.20//NONSGML v1.0//EN
CALSCALE:GREGORIAN
METHOD:PUBLISH
X-ORIGINAL-URL:https://www.osucc.com
X-WR-CALDESC:Events for OSUCC
REFRESH-INTERVAL;VALUE=DURATION:PT1H
X-Robots-Tag:noindex
X-PUBLISHED-TTL:PT1H
BEGIN:VTIMEZONE
TZID:America/Los_Angeles
BEGIN:DAYLIGHT
TZOFFSETFROM:-0800
TZOFFSETTO:-0700
TZNAME:PDT
DTSTART:20250309T100000
END:DAYLIGHT
BEGIN:STANDARD
TZOFFSETFROM:-0700
TZOFFSETTO:-0800
TZNAME:PST
DTSTART:20251102T090000
END:STANDARD
BEGIN:DAYLIGHT
TZOFFSETFROM:-0800
TZOFFSETTO:-0700
TZNAME:PDT
DTSTART:20260308T100000
END:DAYLIGHT
BEGIN:STANDARD
TZOFFSETFROM:-0700
TZOFFSETTO:-0800
TZNAME:PST
DTSTART:20261101T090000
END:STANDARD
BEGIN:DAYLIGHT
TZOFFSETFROM:-0800
TZOFFSETTO:-0700
TZNAME:PDT
DTSTART:20270314T100000
END:DAYLIGHT
BEGIN:STANDARD
TZOFFSETFROM:-0700
TZOFFSETTO:-0800
TZNAME:PST
DTSTART:20271107T090000
END:STANDARD
END:VTIMEZONE
BEGIN:VEVENT
DTSTART;TZID=America/Los_Angeles:20260106T130000
DTEND;TZID=America/Los_Angeles:20260106T180000
DTSTAMP:20260425T093338
CREATED:20251019T214200Z
LAST-MODIFIED:20251019T214200Z
UID:10000468-1767704400-1767722400@www.osucc.com
SUMMARY:Tuesday Coffee
DESCRIPTION:
URL:https://www.osucc.com/event/tuesday-coffee/2026-01-06/
LOCATION:University Christian Center\, 1655 NW Monroe Ave\, Corvallis\, Oregon\, 97330\, United States
END:VEVENT
BEGIN:VEVENT
DTSTART;TZID=America/Los_Angeles:20260106T183000
DTEND;TZID=America/Los_Angeles:20260106T200000
DTSTAMP:20260425T093338
CREATED:20251229T234020Z
LAST-MODIFIED:20251230T211411Z
UID:10000532-1767724200-1767729600@www.osucc.com
SUMMARY:UCC Crafts and Games
DESCRIPTION:Come learn to make handmade crafts and play games like giant jenga! It’s a great place to make new friends!
URL:https://www.osucc.com/event/ucc-crafts-and-games/
LOCATION:University Christian Center\, 1655 NW Monroe Ave\, Corvallis\, Oregon\, 97330\, United States
END:VEVENT
BEGIN:VEVENT
DTSTART;VALUE=DATE:20260109
DTEND;VALUE=DATE:20260112
DTSTAMP:20260425T093338
CREATED:20251119T223323Z
LAST-MODIFIED:20251125T205829Z
UID:10000518-1767916800-1768175999@www.osucc.com
SUMMARY:Oregon Young Adults Retreat
DESCRIPTION:Please give $40 through our Tithely to pay for this event! https://tithe.ly/give?c=228175
URL:https://www.osucc.com/event/oregon-young-adults-retreat/
LOCATION:Camp Wi Ne Ma\, 5195 Winema Rd\, Cloverdale\, OR\, 97112\, United States
ORGANIZER;CN="Joshua Stutzman":MAILTO:stutzman.joshua@gmail.com
END:VEVENT
BEGIN:VEVENT
DTSTART;TZID=America/Los_Angeles:20260111T103000
DTEND;TZID=America/Los_Angeles:20260111T120000
DTSTAMP:20260425T093338
CREATED:20251019T210617Z
LAST-MODIFIED:20251019T231042Z
UID:10000204-1768127400-1768132800@www.osucc.com
SUMMARY:Sunday Morning Church
DESCRIPTION:
URL:https://www.osucc.com/event/sunday-morning-church/2026-01-11/
LOCATION:Circle Church of Christ\, 2020 NW Circle Blvd\, Corvallis\, OR\, 97330\, United States
CATEGORIES:Bible Study,Circle Church of Christ
END:VEVENT
END:VCALENDAR