BEGIN:VCALENDAR
VERSION:2.0
PRODID:-//OSUCC - ECPv6.15.20//NONSGML v1.0//EN
CALSCALE:GREGORIAN
METHOD:PUBLISH
X-WR-CALNAME:OSUCC
X-ORIGINAL-URL:https://www.osucc.com
X-WR-CALDESC:Events for OSUCC
REFRESH-INTERVAL;VALUE=DURATION:PT1H
X-Robots-Tag:noindex
X-PUBLISHED-TTL:PT1H
BEGIN:VTIMEZONE
TZID:America/Los_Angeles
BEGIN:DAYLIGHT
TZOFFSETFROM:-0800
TZOFFSETTO:-0700
TZNAME:PDT
DTSTART:20250309T100000
END:DAYLIGHT
BEGIN:STANDARD
TZOFFSETFROM:-0700
TZOFFSETTO:-0800
TZNAME:PST
DTSTART:20251102T090000
END:STANDARD
BEGIN:DAYLIGHT
TZOFFSETFROM:-0800
TZOFFSETTO:-0700
TZNAME:PDT
DTSTART:20260308T100000
END:DAYLIGHT
BEGIN:STANDARD
TZOFFSETFROM:-0700
TZOFFSETTO:-0800
TZNAME:PST
DTSTART:20261101T090000
END:STANDARD
BEGIN:DAYLIGHT
TZOFFSETFROM:-0800
TZOFFSETTO:-0700
TZNAME:PDT
DTSTART:20270314T100000
END:DAYLIGHT
BEGIN:STANDARD
TZOFFSETFROM:-0700
TZOFFSETTO:-0800
TZNAME:PST
DTSTART:20271107T090000
END:STANDARD
END:VTIMEZONE
BEGIN:VEVENT
DTSTART;TZID=America/Los_Angeles:20260127T130000
DTEND;TZID=America/Los_Angeles:20260127T180000
DTSTAMP:20260425T082455
CREATED:20251019T214200Z
LAST-MODIFIED:20251019T214200Z
UID:10000471-1769518800-1769536800@www.osucc.com
SUMMARY:Tuesday Coffee
DESCRIPTION:
URL:https://www.osucc.com/event/tuesday-coffee/2026-01-27/
LOCATION:University Christian Center\, 1655 NW Monroe Ave\, Corvallis\, Oregon\, 97330\, United States
END:VEVENT
BEGIN:VEVENT
DTSTART;TZID=America/Los_Angeles:20260130T180000
DTEND;TZID=America/Los_Angeles:20260130T203000
DTSTAMP:20260425T082455
CREATED:20251229T234715Z
LAST-MODIFIED:20251230T211804Z
UID:10000533-1769796000-1769805000@www.osucc.com
SUMMARY:Movie and Games
DESCRIPTION:We will watch Paddington and play games!
URL:https://www.osucc.com/event/movie-and-games/
LOCATION:University Christian Center\, 1655 NW Monroe Ave\, Corvallis\, Oregon\, 97330\, United States
END:VEVENT
BEGIN:VEVENT
DTSTART;TZID=America/Los_Angeles:20260131T180000
DTEND;TZID=America/Los_Angeles:20260131T200000
DTSTAMP:20260425T082455
CREATED:20251019T210314Z
LAST-MODIFIED:20251019T221519Z
UID:10000148-1769882400-1769889600@www.osucc.com
SUMMARY:Saturday Night Sports
DESCRIPTION:Check Instagram for Location and Sports!!
URL:https://www.osucc.com/event/saturday-night-sports/2026-01-31/
LOCATION:Oregon
CATEGORIES:Sports
END:VEVENT
BEGIN:VEVENT
DTSTART;TZID=America/Los_Angeles:20260201T103000
DTEND;TZID=America/Los_Angeles:20260201T120000
DTSTAMP:20260425T082455
CREATED:20251019T210617Z
LAST-MODIFIED:20251019T231042Z
UID:10000207-1769941800-1769947200@www.osucc.com
SUMMARY:Sunday Morning Church
DESCRIPTION:
URL:https://www.osucc.com/event/sunday-morning-church/2026-02-01/
LOCATION:Circle Church of Christ\, 2020 NW Circle Blvd\, Corvallis\, OR\, 97330\, United States
CATEGORIES:Bible Study,Circle Church of Christ
END:VEVENT
END:VCALENDAR