BEGIN:VCALENDAR
VERSION:2.0
PRODID:-//OSUCC - ECPv6.15.20//NONSGML v1.0//EN
CALSCALE:GREGORIAN
METHOD:PUBLISH
X-WR-CALNAME:OSUCC
X-ORIGINAL-URL:https://www.osucc.com
X-WR-CALDESC:Events for OSUCC
REFRESH-INTERVAL;VALUE=DURATION:PT1H
X-Robots-Tag:noindex
X-PUBLISHED-TTL:PT1H
BEGIN:VTIMEZONE
TZID:America/Los_Angeles
BEGIN:DAYLIGHT
TZOFFSETFROM:-0800
TZOFFSETTO:-0700
TZNAME:PDT
DTSTART:20250309T100000
END:DAYLIGHT
BEGIN:STANDARD
TZOFFSETFROM:-0700
TZOFFSETTO:-0800
TZNAME:PST
DTSTART:20251102T090000
END:STANDARD
BEGIN:DAYLIGHT
TZOFFSETFROM:-0800
TZOFFSETTO:-0700
TZNAME:PDT
DTSTART:20260308T100000
END:DAYLIGHT
BEGIN:STANDARD
TZOFFSETFROM:-0700
TZOFFSETTO:-0800
TZNAME:PST
DTSTART:20261101T090000
END:STANDARD
BEGIN:DAYLIGHT
TZOFFSETFROM:-0800
TZOFFSETTO:-0700
TZNAME:PDT
DTSTART:20270314T100000
END:DAYLIGHT
BEGIN:STANDARD
TZOFFSETFROM:-0700
TZOFFSETTO:-0800
TZNAME:PST
DTSTART:20271107T090000
END:STANDARD
END:VTIMEZONE
BEGIN:VEVENT
DTSTART;TZID=America/Los_Angeles:20260414T130000
DTEND;TZID=America/Los_Angeles:20260414T180000
DTSTAMP:20260425T054302
CREATED:20251019T214200Z
LAST-MODIFIED:20251019T214200Z
UID:10000482-1776171600-1776189600@www.osucc.com
SUMMARY:Tuesday Coffee
DESCRIPTION:
URL:https://www.osucc.com/event/tuesday-coffee/2026-04-14/
LOCATION:University Christian Center\, 1655 NW Monroe Ave\, Corvallis\, Oregon\, 97330\, United States
END:VEVENT
BEGIN:VEVENT
DTSTART;TZID=America/Los_Angeles:20260414T183000
DTEND;TZID=America/Los_Angeles:20260414T200000
DTSTAMP:20260425T054302
CREATED:20260321T204925Z
LAST-MODIFIED:20260321T204925Z
UID:10000555-1776191400-1776196800@www.osucc.com
SUMMARY:Tuesday Night Bible Study
DESCRIPTION:
URL:https://www.osucc.com/event/tuesday-night-bible-study-9/
LOCATION:University Christian Center\, 1655 NW Monroe Ave\, Corvallis\, Oregon\, 97330\, United States
CATEGORIES:Bible Study
ORGANIZER;CN="Joshua Stutzman":MAILTO:stutzman.joshua@gmail.com
END:VEVENT
BEGIN:VEVENT
DTSTART;TZID=America/Los_Angeles:20260418T180000
DTEND;TZID=America/Los_Angeles:20260418T200000
DTSTAMP:20260425T054302
CREATED:20251019T210314Z
LAST-MODIFIED:20251019T221519Z
UID:10000159-1776535200-1776542400@www.osucc.com
SUMMARY:Saturday Night Sports
DESCRIPTION:Check Instagram for Location and Sports!!
URL:https://www.osucc.com/event/saturday-night-sports/2026-04-18/
LOCATION:Oregon
CATEGORIES:Sports
END:VEVENT
BEGIN:VEVENT
DTSTART;TZID=America/Los_Angeles:20260418T180000
DTEND;TZID=America/Los_Angeles:20260418T200000
DTSTAMP:20260425T054302
CREATED:20260112T215627Z
LAST-MODIFIED:20260112T215627Z
UID:10000535-1776535200-1776542400@www.osucc.com
SUMMARY:Area Wide Volleyball and Sports Night!
DESCRIPTION:  \nThis is our Area wide volleyball! This is an event made for young adults and college students from all over the PNW! This event is made so that we can fellowship with a wider community of believers and make new friends! Everyone is Welcome! \n  \n 
URL:https://www.osucc.com/event/area-wide-volleyball-and-sports-night/
LOCATION:University Christian Center\, 1655 NW Monroe Ave\, Corvallis\, Oregon\, 97330\, United States
END:VEVENT
BEGIN:VEVENT
DTSTART;TZID=America/Los_Angeles:20260419T103000
DTEND;TZID=America/Los_Angeles:20260419T120000
DTSTAMP:20260425T054302
CREATED:20251019T210617Z
LAST-MODIFIED:20251019T231042Z
UID:10000218-1776594600-1776600000@www.osucc.com
SUMMARY:Sunday Morning Church
DESCRIPTION:
URL:https://www.osucc.com/event/sunday-morning-church/2026-04-19/
LOCATION:Circle Church of Christ\, 2020 NW Circle Blvd\, Corvallis\, OR\, 97330\, United States
CATEGORIES:Bible Study,Circle Church of Christ
END:VEVENT
END:VCALENDAR