BEGIN:VCALENDAR
VERSION:2.0
PRODID:-//OSUCC - ECPv6.15.20//NONSGML v1.0//EN
CALSCALE:GREGORIAN
METHOD:PUBLISH
X-WR-CALNAME:OSUCC
X-ORIGINAL-URL:https://www.osucc.com
X-WR-CALDESC:Events for OSUCC
REFRESH-INTERVAL;VALUE=DURATION:PT1H
X-Robots-Tag:noindex
X-PUBLISHED-TTL:PT1H
BEGIN:VTIMEZONE
TZID:America/Los_Angeles
BEGIN:DAYLIGHT
TZOFFSETFROM:-0800
TZOFFSETTO:-0700
TZNAME:PDT
DTSTART:20240310T100000
END:DAYLIGHT
BEGIN:STANDARD
TZOFFSETFROM:-0700
TZOFFSETTO:-0800
TZNAME:PST
DTSTART:20241103T090000
END:STANDARD
BEGIN:DAYLIGHT
TZOFFSETFROM:-0800
TZOFFSETTO:-0700
TZNAME:PDT
DTSTART:20250309T100000
END:DAYLIGHT
BEGIN:STANDARD
TZOFFSETFROM:-0700
TZOFFSETTO:-0800
TZNAME:PST
DTSTART:20251102T090000
END:STANDARD
BEGIN:DAYLIGHT
TZOFFSETFROM:-0800
TZOFFSETTO:-0700
TZNAME:PDT
DTSTART:20260308T100000
END:DAYLIGHT
BEGIN:STANDARD
TZOFFSETFROM:-0700
TZOFFSETTO:-0800
TZNAME:PST
DTSTART:20261101T090000
END:STANDARD
END:VTIMEZONE
BEGIN:VEVENT
DTSTART;TZID=America/Los_Angeles:20251104T130000
DTEND;TZID=America/Los_Angeles:20251104T180000
DTSTAMP:20260425T051831
CREATED:20251019T214200Z
LAST-MODIFIED:20251019T214200Z
UID:10000459-1762261200-1762279200@www.osucc.com
SUMMARY:Tuesday Coffee
DESCRIPTION:
URL:https://www.osucc.com/event/tuesday-coffee/2025-11-04/
LOCATION:University Christian Center\, 1655 NW Monroe Ave\, Corvallis\, Oregon\, 97330\, United States
END:VEVENT
BEGIN:VEVENT
DTSTART;TZID=America/Los_Angeles:20251028T130000
DTEND;TZID=America/Los_Angeles:20251028T180000
DTSTAMP:20260425T051831
CREATED:20251019T214200Z
LAST-MODIFIED:20251019T214200Z
UID:10000458-1761656400-1761674400@www.osucc.com
SUMMARY:Tuesday Coffee
DESCRIPTION:
URL:https://www.osucc.com/event/tuesday-coffee/2025-10-28/
LOCATION:University Christian Center\, 1655 NW Monroe Ave\, Corvallis\, Oregon\, 97330\, United States
END:VEVENT
BEGIN:VEVENT
DTSTART;TZID=America/Los_Angeles:20251021T130000
DTEND;TZID=America/Los_Angeles:20251021T180000
DTSTAMP:20260425T051831
CREATED:20251019T214200Z
LAST-MODIFIED:20251019T214200Z
UID:10000457-1761051600-1761069600@www.osucc.com
SUMMARY:Tuesday Coffee
DESCRIPTION:
URL:https://www.osucc.com/event/tuesday-coffee/2025-10-21/
LOCATION:University Christian Center\, 1655 NW Monroe Ave\, Corvallis\, Oregon\, 97330\, United States
END:VEVENT
END:VCALENDAR